BEGIN:VCALENDAR
VERSION:2.0
PRODID:-//Village of Hines Creek - ECPv6.10.2//NONSGML v1.0//EN
CALSCALE:GREGORIAN
METHOD:PUBLISH
X-WR-CALNAME:Village of Hines Creek
X-ORIGINAL-URL:https://hinescreek.com
X-WR-CALDESC:Events for Village of Hines Creek
REFRESH-INTERVAL;VALUE=DURATION:PT1H
X-Robots-Tag:noindex
X-PUBLISHED-TTL:PT1H
BEGIN:VTIMEZONE
TZID:America/Edmonton
BEGIN:DAYLIGHT
TZOFFSETFROM:-0700
TZOFFSETTO:-0600
TZNAME:MDT
DTSTART:20250309T090000
END:DAYLIGHT
BEGIN:STANDARD
TZOFFSETFROM:-0600
TZOFFSETTO:-0700
TZNAME:MST
DTSTART:20251102T080000
END:STANDARD
BEGIN:DAYLIGHT
TZOFFSETFROM:-0700
TZOFFSETTO:-0600
TZNAME:MDT
DTSTART:20260308T090000
END:DAYLIGHT
BEGIN:STANDARD
TZOFFSETFROM:-0600
TZOFFSETTO:-0700
TZNAME:MST
DTSTART:20261101T080000
END:STANDARD
END:VTIMEZONE
BEGIN:VEVENT
DTSTART;VALUE=DATE:20260328
DTEND;VALUE=DATE:20260329
DTSTAMP:20260420T053734
CREATED:20260309T200324Z
LAST-MODIFIED:20260309T200324Z
UID:6473-1774656000-1774742399@hinescreek.com
SUMMARY:Pickleball Tournament
DESCRIPTION:
URL:https://hinescreek.com/event/pickleball-tournament/
LOCATION:Rodney Bjornson Fitness Center
END:VEVENT
BEGIN:VEVENT
DTSTART;VALUE=DATE:20260327
DTEND;VALUE=DATE:20260330
DTSTAMP:20260420T053734
CREATED:20260115T225347Z
LAST-MODIFIED:20260115T225347Z
UID:6440-1774569600-1774828799@hinescreek.com
SUMMARY:1st Annual Hines Creek Cup
DESCRIPTION:
URL:https://hinescreek.com/event/1st-annual-hines-creek-cup/
LOCATION:Dave Shaw Memorial Complex\, 712 8th Street\, Hines Creek
END:VEVENT
BEGIN:VEVENT
DTSTART;TZID=America/Edmonton:20260325T090000
DTEND;TZID=America/Edmonton:20260325T090000
DTSTAMP:20260420T053734
CREATED:20251110T225805Z
LAST-MODIFIED:20251110T225807Z
UID:6391-1774429200-1774429200@hinescreek.com
SUMMARY:Regular Meeting of Council
DESCRIPTION:
URL:https://hinescreek.com/event/regular-meeting-of-council-8/
END:VEVENT
BEGIN:VEVENT
DTSTART;TZID=America/Edmonton:20260311T090000
DTEND;TZID=America/Edmonton:20260311T090000
DTSTAMP:20260420T053734
CREATED:20251110T225804Z
LAST-MODIFIED:20251110T225807Z
UID:6390-1773219600-1773219600@hinescreek.com
SUMMARY:Regular Meeting of Council
DESCRIPTION:
URL:https://hinescreek.com/event/regular-meeting-of-council-7/
END:VEVENT
BEGIN:VEVENT
DTSTART;TZID=America/Edmonton:20260225T090000
DTEND;TZID=America/Edmonton:20260225T090000
DTSTAMP:20260420T053734
CREATED:20251110T225804Z
LAST-MODIFIED:20251110T225807Z
UID:6389-1772010000-1772010000@hinescreek.com
SUMMARY:Regular Meeting of Council
DESCRIPTION:
URL:https://hinescreek.com/event/regular-meeting-of-council-6/
END:VEVENT
BEGIN:VEVENT
DTSTART;TZID=America/Edmonton:20260216T110000
DTEND;TZID=America/Edmonton:20260216T160000
DTSTAMP:20260420T053734
CREATED:20260209T230108Z
LAST-MODIFIED:20260209T230108Z
UID:6450-1771239600-1771257600@hinescreek.com
SUMMARY:Family Day Winter Celebration
DESCRIPTION:
URL:https://hinescreek.com/event/family-day-winter-celebration/
END:VEVENT
BEGIN:VEVENT
DTSTART;TZID=America/Edmonton:20260215T090000
DTEND;TZID=America/Edmonton:20260215T110000
DTSTAMP:20260420T053734
CREATED:20251027T211349Z
LAST-MODIFIED:20251027T211349Z
UID:6302-1771146000-1771153200@hinescreek.com
SUMMARY:Peace Valley Snow Riders Poker Rally
DESCRIPTION:
URL:https://hinescreek.com/event/peace-valley-snow-riders-poker-rally/
LOCATION:Baytex Wesley Creek Trail
END:VEVENT
BEGIN:VEVENT
DTSTART;TZID=America/Edmonton:20260211T090000
DTEND;TZID=America/Edmonton:20260211T090000
DTSTAMP:20260420T053734
CREATED:20251110T225753Z
LAST-MODIFIED:20251110T225753Z
UID:6388-1770800400-1770800400@hinescreek.com
SUMMARY:Regular Meeting of Council
DESCRIPTION:
URL:https://hinescreek.com/event/regular-meeting-of-council-5/
END:VEVENT
BEGIN:VEVENT
DTSTART;TZID=America/Edmonton:20260128T090000
DTEND;TZID=America/Edmonton:20260128T090000
DTSTAMP:20260420T053734
CREATED:20251110T225753Z
LAST-MODIFIED:20251110T225753Z
UID:6387-1769590800-1769590800@hinescreek.com
SUMMARY:Regular Meeting of Council
DESCRIPTION:
URL:https://hinescreek.com/event/regular-meeting-of-council-4/
END:VEVENT
BEGIN:VEVENT
DTSTART;TZID=America/Edmonton:20260114T090000
DTEND;TZID=America/Edmonton:20260114T090000
DTSTAMP:20260420T053734
CREATED:20251110T225753Z
LAST-MODIFIED:20251110T225753Z
UID:6386-1768381200-1768381200@hinescreek.com
SUMMARY:Regular Meeting of Council
DESCRIPTION:
URL:https://hinescreek.com/event/regular-meeting-of-council-3/
END:VEVENT
BEGIN:VEVENT
DTSTART;TZID=America/Edmonton:20251222T090000
DTEND;TZID=America/Edmonton:20251222T090000
DTSTAMP:20260420T053734
CREATED:20251112T174152Z
LAST-MODIFIED:20251112T174321Z
UID:6419-1766394000-1766394000@hinescreek.com
SUMMARY:Regular Meeting of Council
DESCRIPTION:
URL:https://hinescreek.com/event/regular-meeting-of-council-26/
LOCATION:Municipal Building\, 212 10TH STREET\, HINES CREEK\, AB\, T0H 2A0\, Canada
END:VEVENT
BEGIN:VEVENT
DTSTART;TZID=America/Edmonton:20251215T103000
DTEND;TZID=America/Edmonton:20251215T140000
DTSTAMP:20260420T053734
CREATED:20250417T222541Z
LAST-MODIFIED:20250417T222541Z
UID:6105-1765794600-1765807200@hinescreek.com
SUMMARY:Seniors Lunch Program
DESCRIPTION:
URL:https://hinescreek.com/event/seniors-lunch-program-7/
LOCATION:Seniors Drop-in Center\, 916 2nd Ave\, Hines Creek\, Alberta\, T0H 2A0\, Canada
END:VEVENT
BEGIN:VEVENT
DTSTART;TZID=America/Edmonton:20251210T090000
DTEND;TZID=America/Edmonton:20251210T090000
DTSTAMP:20260420T053734
CREATED:20251110T225753Z
LAST-MODIFIED:20251110T225753Z
UID:6385-1765357200-1765357200@hinescreek.com
SUMMARY:Regular Meeting of Council
DESCRIPTION:
URL:https://hinescreek.com/event/regular-meeting-of-council-2/
END:VEVENT
BEGIN:VEVENT
DTSTART;TZID=America/Edmonton:20251206T173000
DTEND;TZID=America/Edmonton:20251206T173000
DTSTAMP:20260420T053734
CREATED:20251112T175144Z
LAST-MODIFIED:20251112T180416Z
UID:6421-1765042200-1765042200@hinescreek.com
SUMMARY:Community Dine & Dance
DESCRIPTION:
URL:https://hinescreek.com/event/community-dine-dance/
LOCATION:Dave Shaw Memorial Complex\, 712 8th Street\, Hines Creek
END:VEVENT
BEGIN:VEVENT
DTSTART;TZID=America/Edmonton:20251128T160000
DTEND;TZID=America/Edmonton:20251128T160000
DTSTAMP:20260420T053734
CREATED:20251112T175437Z
LAST-MODIFIED:20251112T180211Z
UID:6424-1764345600-1764345600@hinescreek.com
SUMMARY:Country Christmas
DESCRIPTION:
URL:https://hinescreek.com/event/country-christmas-3/
LOCATION:Dave Shaw Memorial Complex\, 712 8th Street\, Hines Creek
END:VEVENT
BEGIN:VEVENT
DTSTART;TZID=America/Edmonton:20251126T090000
DTEND;TZID=America/Edmonton:20251126T090000
DTSTAMP:20260420T053734
CREATED:20251110T225753Z
LAST-MODIFIED:20251110T225753Z
UID:6384-1764147600-1764147600@hinescreek.com
SUMMARY:Regular Meeting of Council
DESCRIPTION:
URL:https://hinescreek.com/event/regular-meeting-of-council/
END:VEVENT
BEGIN:VEVENT
DTSTART;TZID=America/Edmonton:20251117T103000
DTEND;TZID=America/Edmonton:20251117T140000
DTSTAMP:20260420T053734
CREATED:20250417T222335Z
LAST-MODIFIED:20250417T222335Z
UID:6103-1763375400-1763388000@hinescreek.com
SUMMARY:Seniors Lunch Program
DESCRIPTION:
URL:https://hinescreek.com/event/seniors-lunch-program-6/
LOCATION:Seniors Drop-in Center\, 916 2nd Ave\, Hines Creek\, Alberta\, T0H 2A0\, Canada
END:VEVENT
BEGIN:VEVENT
DTSTART;TZID=America/Edmonton:20251106T190000
DTEND;TZID=America/Edmonton:20251106T210000
DTSTAMP:20260420T053734
CREATED:20251104T163842Z
LAST-MODIFIED:20251104T163842Z
UID:6376-1762455600-1762462800@hinescreek.com
SUMMARY:Fairview Town Hall - Fairview Polytech Campus Closure Discussion
DESCRIPTION:
URL:https://hinescreek.com/event/fairview-town-hall-fairview-polytech-campus-closure-discussion/
LOCATION:Dunvegan Motor Inn
END:VEVENT
BEGIN:VEVENT
DTSTART;TZID=America/Edmonton:20251028T190000
DTEND;TZID=America/Edmonton:20251028T190000
DTSTAMP:20260420T053734
CREATED:20250529T202616Z
LAST-MODIFIED:20250529T202619Z
UID:6232-1761678000-1761678000@hinescreek.com
SUMMARY:Regular Council Meeting
DESCRIPTION:
URL:https://hinescreek.com/event/regular-council-meeting-61/
LOCATION:Municipal Building\, 212 10TH STREET\, HINES CREEK\, AB\, T0H 2A0\, Canada
END:VEVENT
BEGIN:VEVENT
DTSTART;TZID=America/Edmonton:20251020T103000
DTEND;TZID=America/Edmonton:20251020T140000
DTSTAMP:20260420T053734
CREATED:20250417T222133Z
LAST-MODIFIED:20250417T222133Z
UID:6101-1760956200-1760968800@hinescreek.com
SUMMARY:Seniors Lunch Program
DESCRIPTION:
URL:https://hinescreek.com/event/seniors-lunch-program-5/
LOCATION:Seniors Drop-in Center\, 916 2nd Ave\, Hines Creek\, Alberta\, T0H 2A0\, Canada
END:VEVENT
BEGIN:VEVENT
DTSTART;VALUE=DATE:20251020
DTEND;VALUE=DATE:20251021
DTSTAMP:20260420T053734
CREATED:20250312T171459Z
LAST-MODIFIED:20250312T171459Z
UID:5913-1760918400-1761004799@hinescreek.com
SUMMARY:Municipal Election
DESCRIPTION:Get out and Vote for your next municipal Council.
URL:https://hinescreek.com/event/municipal-election/
END:VEVENT
BEGIN:VEVENT
DTSTART;TZID=America/Edmonton:20251014T190000
DTEND;TZID=America/Edmonton:20251014T190000
DTSTAMP:20260420T053734
CREATED:20250529T202615Z
LAST-MODIFIED:20250529T202619Z
UID:6231-1760468400-1760468400@hinescreek.com
SUMMARY:Regular Council Meeting
DESCRIPTION:
URL:https://hinescreek.com/event/regular-council-meeting-60/
LOCATION:Municipal Building\, 212 10TH STREET\, HINES CREEK\, AB\, T0H 2A0\, Canada
END:VEVENT
BEGIN:VEVENT
DTSTART;TZID=America/Edmonton:20250923T190000
DTEND;TZID=America/Edmonton:20250923T190000
DTSTAMP:20260420T053734
CREATED:20250529T202615Z
LAST-MODIFIED:20250529T202619Z
UID:6230-1758654000-1758654000@hinescreek.com
SUMMARY:Regular Council Meeting
DESCRIPTION:
URL:https://hinescreek.com/event/regular-council-meeting-59/
LOCATION:Municipal Building\, 212 10TH STREET\, HINES CREEK\, AB\, T0H 2A0\, Canada
END:VEVENT
BEGIN:VEVENT
DTSTART;TZID=America/Edmonton:20250922T083000
DTEND;TZID=America/Edmonton:20250922T120000
DTSTAMP:20260420T053734
CREATED:20250312T180218Z
LAST-MODIFIED:20250312T190754Z
UID:5918-1758529800-1758542400@hinescreek.com
SUMMARY:Nomination Day
DESCRIPTION:
URL:https://hinescreek.com/event/nomination-day-2/
LOCATION:Municipal Building\, 212 10TH STREET\, HINES CREEK\, AB\, T0H 2A0\, Canada
END:VEVENT
BEGIN:VEVENT
DTSTART;TZID=America/Edmonton:20250915T103000
DTEND;TZID=America/Edmonton:20250915T140000
DTSTAMP:20260420T053734
CREATED:20250417T222015Z
LAST-MODIFIED:20250417T222015Z
UID:6099-1757932200-1757944800@hinescreek.com
SUMMARY:Seniors Lunch Program
DESCRIPTION:
URL:https://hinescreek.com/event/seniors-lunch-program-4/
LOCATION:Seniors Drop-in Center\, 916 2nd Ave\, Hines Creek\, Alberta\, T0H 2A0\, Canada
END:VEVENT
BEGIN:VEVENT
DTSTART;TZID=America/Edmonton:20250909T190000
DTEND;TZID=America/Edmonton:20250909T190000
DTSTAMP:20260420T053734
CREATED:20250529T202615Z
LAST-MODIFIED:20250529T202619Z
UID:6229-1757444400-1757444400@hinescreek.com
SUMMARY:Regular Council Meeting
DESCRIPTION:
URL:https://hinescreek.com/event/regular-council-meeting-58/
LOCATION:Municipal Building\, 212 10TH STREET\, HINES CREEK\, AB\, T0H 2A0\, Canada
END:VEVENT
BEGIN:VEVENT
DTSTART;TZID=America/Edmonton:20250826T190000
DTEND;TZID=America/Edmonton:20250826T190000
DTSTAMP:20260420T053734
CREATED:20250529T202615Z
LAST-MODIFIED:20250529T202619Z
UID:6228-1756234800-1756234800@hinescreek.com
SUMMARY:Regular Council Meeting
DESCRIPTION:
URL:https://hinescreek.com/event/regular-council-meeting-57/
LOCATION:Municipal Building\, 212 10TH STREET\, HINES CREEK\, AB\, T0H 2A0\, Canada
END:VEVENT
BEGIN:VEVENT
DTSTART;TZID=America/Edmonton:20250812T190000
DTEND;TZID=America/Edmonton:20250812T190000
DTSTAMP:20260420T053734
CREATED:20250529T202610Z
LAST-MODIFIED:20250529T202610Z
UID:6227-1755025200-1755025200@hinescreek.com
SUMMARY:Regular Council Meeting
DESCRIPTION:
URL:https://hinescreek.com/event/regular-council-meeting-56/
LOCATION:Municipal Building\, 212 10TH STREET\, HINES CREEK\, AB\, T0H 2A0\, Canada
END:VEVENT
BEGIN:VEVENT
DTSTART;TZID=America/Edmonton:20250722T190000
DTEND;TZID=America/Edmonton:20250722T190000
DTSTAMP:20260420T053734
CREATED:20250529T202610Z
LAST-MODIFIED:20250529T202610Z
UID:6226-1753210800-1753210800@hinescreek.com
SUMMARY:Regular Council Meeting
DESCRIPTION:
URL:https://hinescreek.com/event/regular-council-meeting-55/
LOCATION:Municipal Building\, 212 10TH STREET\, HINES CREEK\, AB\, T0H 2A0\, Canada
END:VEVENT
BEGIN:VEVENT
DTSTART;TZID=America/Edmonton:20250708T190000
DTEND;TZID=America/Edmonton:20250708T190000
DTSTAMP:20260420T053734
CREATED:20250529T202610Z
LAST-MODIFIED:20250529T202610Z
UID:6225-1752001200-1752001200@hinescreek.com
SUMMARY:Regular Council Meeting
DESCRIPTION:
URL:https://hinescreek.com/event/regular-council-meeting-54/
LOCATION:Municipal Building\, 212 10TH STREET\, HINES CREEK\, AB\, T0H 2A0\, Canada
END:VEVENT
END:VCALENDAR