BEGIN:VCALENDAR
VERSION:2.0
PRODID:-//Village of Hines Creek - ECPv6.10.2//NONSGML v1.0//EN
CALSCALE:GREGORIAN
METHOD:PUBLISH
X-WR-CALNAME:Village of Hines Creek
X-ORIGINAL-URL:https://hinescreek.com
X-WR-CALDESC:Events for Village of Hines Creek
REFRESH-INTERVAL;VALUE=DURATION:PT1H
X-Robots-Tag:noindex
X-PUBLISHED-TTL:PT1H
BEGIN:VTIMEZONE
TZID:America/Edmonton
BEGIN:DAYLIGHT
TZOFFSETFROM:-0700
TZOFFSETTO:-0600
TZNAME:MDT
DTSTART:20230312T090000
END:DAYLIGHT
BEGIN:STANDARD
TZOFFSETFROM:-0600
TZOFFSETTO:-0700
TZNAME:MST
DTSTART:20231105T080000
END:STANDARD
END:VTIMEZONE
BEGIN:VEVENT
DTSTART;TZID=America/Edmonton:20230610T200000
DTEND;TZID=America/Edmonton:20230610T200000
DTSTAMP:20260420T231004
CREATED:20230530T200457Z
LAST-MODIFIED:20230530T200939Z
UID:5242-1686427200-1686427200@hinescreek.com
SUMMARY:Raising the Roof Street Dance
DESCRIPTION:
URL:https://hinescreek.com/event/raising-the-roof-street-dance/
LOCATION:Hines Creek Hotel\, 104 10th Street\, Hines Creek
END:VEVENT
BEGIN:VEVENT
DTSTART;TZID=America/Edmonton:20230609T113000
DTEND;TZID=America/Edmonton:20230609T133000
DTSTAMP:20260420T231004
CREATED:20230529T221726Z
LAST-MODIFIED:20230529T221726Z
UID:5237-1686310200-1686317400@hinescreek.com
SUMMARY:Seniors Week BBQ
DESCRIPTION:
URL:https://hinescreek.com/event/seniors-week-bbq/
LOCATION:Homesteader Lodge\, 904 2nd Ave\, Hines Creek
END:VEVENT
BEGIN:VEVENT
DTSTART;TZID=America/Edmonton:20230608T190000
DTEND;TZID=America/Edmonton:20230608T190000
DTSTAMP:20260420T231004
CREATED:20230606T194637Z
LAST-MODIFIED:20230606T194637Z
UID:5252-1686250800-1686250800@hinescreek.com
SUMMARY:Special Meeting June 8\, 2023
DESCRIPTION:
URL:https://hinescreek.com/event/special-meeting-june-8-2023/
LOCATION:Municipal Building\, 212 10TH STREET\, HINES CREEK\, AB\, T0H 2A0\, Canada
END:VEVENT
BEGIN:VEVENT
DTSTART;TZID=America/Edmonton:20230608T093000
DTEND;TZID=America/Edmonton:20230608T113000
DTSTAMP:20260420T231004
CREATED:20230424T191251Z
LAST-MODIFIED:20230424T191251Z
UID:5191-1686216600-1686223800@hinescreek.com
SUMMARY:Coffee & Connections Playgroup
DESCRIPTION:
URL:https://hinescreek.com/event/coffee-connections-playgroup-7/
LOCATION:Seniors Drop-in Center\, 916 2nd Ave\, Hines Creek\, Alberta\, T0H 2A0\, Canada
END:VEVENT
BEGIN:VEVENT
DTSTART;TZID=America/Edmonton:20230607T130000
DTEND;TZID=America/Edmonton:20230607T130000
DTSTAMP:20260420T231004
CREATED:20230120T203132Z
LAST-MODIFIED:20230120T212703Z
UID:4762-1686142800-1686142800@hinescreek.com
SUMMARY:Arts and Crafts Open House
DESCRIPTION:
URL:https://hinescreek.com/event/arts-and-crafts-open-house-35/
LOCATION:Alberta
END:VEVENT
BEGIN:VEVENT
DTSTART;TZID=America/Edmonton:20230605T190000
DTEND;TZID=America/Edmonton:20230605T190000
DTSTAMP:20260420T231004
CREATED:20230120T204500Z
LAST-MODIFIED:20230120T212423Z
UID:4801-1685991600-1685991600@hinescreek.com
SUMMARY:Hines Creek Volunteer Fire Department Meeting
DESCRIPTION:
URL:https://hinescreek.com/event/hines-creek-volunteer-fire-department-meeting-26/
LOCATION:Alberta
END:VEVENT
BEGIN:VEVENT
DTSTART;TZID=America/Edmonton:20230601T093000
DTEND;TZID=America/Edmonton:20230601T113000
DTSTAMP:20260420T231004
CREATED:20230424T191200Z
LAST-MODIFIED:20230424T191200Z
UID:5189-1685611800-1685619000@hinescreek.com
SUMMARY:Coffee & Connections Playgroup
DESCRIPTION:
URL:https://hinescreek.com/event/coffee-connections-playgroup-6/
LOCATION:Seniors Drop-in Center\, 916 2nd Ave\, Hines Creek\, Alberta\, T0H 2A0\, Canada
END:VEVENT
BEGIN:VEVENT
DTSTART;TZID=America/Edmonton:20230531T130000
DTEND;TZID=America/Edmonton:20230531T130000
DTSTAMP:20260420T231004
CREATED:20230120T203117Z
LAST-MODIFIED:20230120T212703Z
UID:4761-1685538000-1685538000@hinescreek.com
SUMMARY:Arts and Crafts Open House
DESCRIPTION:
URL:https://hinescreek.com/event/arts-and-crafts-open-house-34/
LOCATION:Alberta
END:VEVENT
BEGIN:VEVENT
DTSTART;TZID=America/Edmonton:20230525T093000
DTEND;TZID=America/Edmonton:20230525T113000
DTSTAMP:20260420T231004
CREATED:20230424T191106Z
LAST-MODIFIED:20230424T191106Z
UID:5187-1685007000-1685014200@hinescreek.com
SUMMARY:Coffee & Connections Playgroup
DESCRIPTION:
URL:https://hinescreek.com/event/coffee-connections-playgroup-5/
LOCATION:Seniors Drop-in Center\, 916 2nd Ave\, Hines Creek\, Alberta\, T0H 2A0\, Canada
END:VEVENT
BEGIN:VEVENT
DTSTART;TZID=America/Edmonton:20230524T130000
DTEND;TZID=America/Edmonton:20230524T130000
DTSTAMP:20260420T231004
CREATED:20230120T203117Z
LAST-MODIFIED:20230120T212703Z
UID:4760-1684933200-1684933200@hinescreek.com
SUMMARY:Arts and Crafts Open House
DESCRIPTION:
URL:https://hinescreek.com/event/arts-and-crafts-open-house-33/
LOCATION:Alberta
END:VEVENT
BEGIN:VEVENT
DTSTART;TZID=America/Edmonton:20230523T190000
DTEND;TZID=America/Edmonton:20230523T190000
DTSTAMP:20260420T231004
CREATED:20230120T184808Z
LAST-MODIFIED:20230120T184808Z
UID:4713-1684868400-1684868400@hinescreek.com
SUMMARY:Regular Council Meeting
DESCRIPTION:
URL:https://hinescreek.com/event/regular-council-meeting-19/
LOCATION:Municipal Building\, 212 10TH STREET\, HINES CREEK\, AB\, T0H 2A0\, Canada
END:VEVENT
BEGIN:VEVENT
DTSTART;TZID=America/Edmonton:20230518T093000
DTEND;TZID=America/Edmonton:20230518T113000
DTSTAMP:20260420T231004
CREATED:20230424T191016Z
LAST-MODIFIED:20230424T191016Z
UID:5185-1684402200-1684409400@hinescreek.com
SUMMARY:Coffee & Connections Playgroup
DESCRIPTION:
URL:https://hinescreek.com/event/coffee-connections-playgroup-4/
LOCATION:Seniors Drop-in Center\, 916 2nd Ave\, Hines Creek\, Alberta\, T0H 2A0\, Canada
END:VEVENT
BEGIN:VEVENT
DTSTART;TZID=America/Edmonton:20230517T130000
DTEND;TZID=America/Edmonton:20230517T130000
DTSTAMP:20260420T231004
CREATED:20230120T203117Z
LAST-MODIFIED:20230120T212703Z
UID:4759-1684328400-1684328400@hinescreek.com
SUMMARY:Arts and Crafts Open House
DESCRIPTION:
URL:https://hinescreek.com/event/arts-and-crafts-open-house-32/
LOCATION:Alberta
END:VEVENT
BEGIN:VEVENT
DTSTART;TZID=America/Edmonton:20230515T190000
DTEND;TZID=America/Edmonton:20230515T190000
DTSTAMP:20260420T231004
CREATED:20230120T204500Z
LAST-MODIFIED:20230120T212423Z
UID:4800-1684177200-1684177200@hinescreek.com
SUMMARY:Hines Creek Volunteer Fire Department Meeting
DESCRIPTION:
URL:https://hinescreek.com/event/hines-creek-volunteer-fire-department-meeting-25/
LOCATION:Alberta
END:VEVENT
BEGIN:VEVENT
DTSTART;TZID=America/Edmonton:20230511T093000
DTEND;TZID=America/Edmonton:20230511T113000
DTSTAMP:20260420T231005
CREATED:20230424T190922Z
LAST-MODIFIED:20230424T190922Z
UID:5183-1683797400-1683804600@hinescreek.com
SUMMARY:Coffee & Connections Playgroup
DESCRIPTION:
URL:https://hinescreek.com/event/coffee-connections-playgroup-3/
LOCATION:Seniors Drop-in Center\, 916 2nd Ave\, Hines Creek\, Alberta\, T0H 2A0\, Canada
END:VEVENT
BEGIN:VEVENT
DTSTART;TZID=America/Edmonton:20230510T130000
DTEND;TZID=America/Edmonton:20230510T130000
DTSTAMP:20260420T231005
CREATED:20230120T203117Z
LAST-MODIFIED:20230120T212648Z
UID:4758-1683723600-1683723600@hinescreek.com
SUMMARY:Arts and Crafts Open House
DESCRIPTION:
URL:https://hinescreek.com/event/arts-and-crafts-open-house-31/
LOCATION:Alberta
END:VEVENT
BEGIN:VEVENT
DTSTART;TZID=America/Edmonton:20230509T190000
DTEND;TZID=America/Edmonton:20230509T190000
DTSTAMP:20260420T231005
CREATED:20230120T184807Z
LAST-MODIFIED:20230120T184807Z
UID:4712-1683658800-1683658800@hinescreek.com
SUMMARY:Regular Council Meeting
DESCRIPTION:
URL:https://hinescreek.com/event/regular-council-meeting-18/
LOCATION:Municipal Building\, 212 10TH STREET\, HINES CREEK\, AB\, T0H 2A0\, Canada
END:VEVENT
BEGIN:VEVENT
DTSTART;TZID=America/Edmonton:20230504T093000
DTEND;TZID=America/Edmonton:20230504T113000
DTSTAMP:20260420T231005
CREATED:20230424T173719Z
LAST-MODIFIED:20230424T173856Z
UID:5178-1683192600-1683199800@hinescreek.com
SUMMARY:Coffee & Connections Playgroup
DESCRIPTION:
URL:https://hinescreek.com/event/coffee-connections-playgroup/
LOCATION:Seniors Drop-in Center\, 916 2nd Ave\, Hines Creek\, Alberta\, T0H 2A0\, Canada
END:VEVENT
BEGIN:VEVENT
DTSTART;TZID=America/Edmonton:20230503T130000
DTEND;TZID=America/Edmonton:20230503T130000
DTSTAMP:20260420T231005
CREATED:20230120T203117Z
LAST-MODIFIED:20230120T212648Z
UID:4757-1683118800-1683118800@hinescreek.com
SUMMARY:Arts and Crafts Open House
DESCRIPTION:
URL:https://hinescreek.com/event/arts-and-crafts-open-house-30/
LOCATION:Alberta
END:VEVENT
BEGIN:VEVENT
DTSTART;TZID=America/Edmonton:20230501T190000
DTEND;TZID=America/Edmonton:20230501T190000
DTSTAMP:20260420T231005
CREATED:20230120T204500Z
LAST-MODIFIED:20230120T212423Z
UID:4799-1682967600-1682967600@hinescreek.com
SUMMARY:Hines Creek Volunteer Fire Department Meeting
DESCRIPTION:
URL:https://hinescreek.com/event/hines-creek-volunteer-fire-department-meeting-24/
LOCATION:Alberta
END:VEVENT
BEGIN:VEVENT
DTSTART;TZID=America/Edmonton:20230427T093000
DTEND;TZID=America/Edmonton:20230427T113000
DTSTAMP:20260420T231005
CREATED:20230424T190819Z
LAST-MODIFIED:20230424T190819Z
UID:5181-1682587800-1682595000@hinescreek.com
SUMMARY:Coffee & Connections Playgroup
DESCRIPTION:
URL:https://hinescreek.com/event/coffee-connections-playgroup-2/
LOCATION:Seniors Drop-in Center\, 916 2nd Ave\, Hines Creek\, Alberta\, T0H 2A0\, Canada
END:VEVENT
BEGIN:VEVENT
DTSTART;TZID=America/Edmonton:20230426T130000
DTEND;TZID=America/Edmonton:20230426T130000
DTSTAMP:20260420T231005
CREATED:20230120T203103Z
LAST-MODIFIED:20230120T212648Z
UID:4756-1682514000-1682514000@hinescreek.com
SUMMARY:Arts and Crafts Open House
DESCRIPTION:
URL:https://hinescreek.com/event/arts-and-crafts-open-house-29/
LOCATION:Alberta
END:VEVENT
BEGIN:VEVENT
DTSTART;TZID=America/Edmonton:20230425T190000
DTEND;TZID=America/Edmonton:20230425T190000
DTSTAMP:20260420T231005
CREATED:20230120T184807Z
LAST-MODIFIED:20230120T184807Z
UID:4711-1682449200-1682449200@hinescreek.com
SUMMARY:Regular Council Meeting
DESCRIPTION:
URL:https://hinescreek.com/event/regular-council-meeting-17/
LOCATION:Municipal Building\, 212 10TH STREET\, HINES CREEK\, AB\, T0H 2A0\, Canada
END:VEVENT
BEGIN:VEVENT
DTSTART;TZID=America/Edmonton:20230419T164500
DTEND;TZID=America/Edmonton:20230419T190000
DTSTAMP:20260420T231005
CREATED:20230316T193639Z
LAST-MODIFIED:20230316T193639Z
UID:5159-1681922700-1681930800@hinescreek.com
SUMMARY:Special Meeting of Council-Budget Meeting
DESCRIPTION:
URL:https://hinescreek.com/event/special-meeting-of-council-budget-meeting/
LOCATION:Municipal Building\, 212 10TH STREET\, HINES CREEK\, AB\, T0H 2A0\, Canada
END:VEVENT
BEGIN:VEVENT
DTSTART;TZID=America/Edmonton:20230419T130000
DTEND;TZID=America/Edmonton:20230419T130000
DTSTAMP:20260420T231005
CREATED:20230120T203103Z
LAST-MODIFIED:20230120T212648Z
UID:4755-1681909200-1681909200@hinescreek.com
SUMMARY:Arts and Crafts Open House
DESCRIPTION:
URL:https://hinescreek.com/event/arts-and-crafts-open-house-28/
LOCATION:Alberta
END:VEVENT
BEGIN:VEVENT
DTSTART;TZID=America/Edmonton:20230417T190000
DTEND;TZID=America/Edmonton:20230417T190000
DTSTAMP:20260420T231005
CREATED:20230120T204500Z
LAST-MODIFIED:20230120T212423Z
UID:4798-1681758000-1681758000@hinescreek.com
SUMMARY:Hines Creek Volunteer Fire Department Meeting
DESCRIPTION:
URL:https://hinescreek.com/event/hines-creek-volunteer-fire-department-meeting-23/
LOCATION:Alberta
END:VEVENT
BEGIN:VEVENT
DTSTART;VALUE=DATE:20230415
DTEND;VALUE=DATE:20230416
DTSTAMP:20260420T231005
CREATED:20230119T205927Z
LAST-MODIFIED:20230119T205927Z
UID:4692-1681516800-1681603199@hinescreek.com
SUMMARY:CLEAR HILLS COUNTY TRADESHOW
DESCRIPTION:
URL:https://hinescreek.com/event/clear-hills-county-tradeshow/
LOCATION:Dave Shaw Memorial Complex\, 712 8th Street\, Hines Creek
ORGANIZER;CN="Clear Hills County":MAILTO:info@clearhillscounty.ab.ca
END:VEVENT
BEGIN:VEVENT
DTSTART;VALUE=DATE:20230414
DTEND;VALUE=DATE:20230416
DTSTAMP:20260420T231005
CREATED:20230119T202736Z
LAST-MODIFIED:20230119T202736Z
UID:4671-1681430400-1681603199@hinescreek.com
SUMMARY:Spring Bench Show & Seed Fair
DESCRIPTION:
URL:https://hinescreek.com/event/spring-bench-show-seed-fair/
LOCATION:Dave Shaw Memorial Complex\, 712 8th Street\, Hines Creek
END:VEVENT
BEGIN:VEVENT
DTSTART;TZID=America/Edmonton:20230412T130000
DTEND;TZID=America/Edmonton:20230412T130000
DTSTAMP:20260420T231005
CREATED:20230120T203103Z
LAST-MODIFIED:20230120T212648Z
UID:4754-1681304400-1681304400@hinescreek.com
SUMMARY:Arts and Crafts Open House
DESCRIPTION:
URL:https://hinescreek.com/event/arts-and-crafts-open-house-27/
LOCATION:Alberta
END:VEVENT
BEGIN:VEVENT
DTSTART;TZID=America/Edmonton:20230411T190000
DTEND;TZID=America/Edmonton:20230411T190000
DTSTAMP:20260420T231005
CREATED:20230120T184807Z
LAST-MODIFIED:20230120T184807Z
UID:4710-1681239600-1681239600@hinescreek.com
SUMMARY:Regular Council Meeting
DESCRIPTION:
URL:https://hinescreek.com/event/regular-council-meeting-16/
LOCATION:Municipal Building\, 212 10TH STREET\, HINES CREEK\, AB\, T0H 2A0\, Canada
END:VEVENT
END:VCALENDAR