BEGIN:VCALENDAR
VERSION:2.0
PRODID:-//Village of Hines Creek - ECPv6.10.2//NONSGML v1.0//EN
CALSCALE:GREGORIAN
METHOD:PUBLISH
X-WR-CALNAME:Village of Hines Creek
X-ORIGINAL-URL:https://hinescreek.com
X-WR-CALDESC:Events for Village of Hines Creek
REFRESH-INTERVAL;VALUE=DURATION:PT1H
X-Robots-Tag:noindex
X-PUBLISHED-TTL:PT1H
BEGIN:VTIMEZONE
TZID:America/Edmonton
BEGIN:DAYLIGHT
TZOFFSETFROM:-0700
TZOFFSETTO:-0600
TZNAME:MDT
DTSTART:20220313T090000
END:DAYLIGHT
BEGIN:STANDARD
TZOFFSETFROM:-0600
TZOFFSETTO:-0700
TZNAME:MST
DTSTART:20221106T080000
END:STANDARD
BEGIN:DAYLIGHT
TZOFFSETFROM:-0700
TZOFFSETTO:-0600
TZNAME:MDT
DTSTART:20230312T090000
END:DAYLIGHT
BEGIN:STANDARD
TZOFFSETFROM:-0600
TZOFFSETTO:-0700
TZNAME:MST
DTSTART:20231105T080000
END:STANDARD
END:VTIMEZONE
BEGIN:VEVENT
DTSTART;TZID=America/Edmonton:20230228T190000
DTEND;TZID=America/Edmonton:20230228T190000
DTSTAMP:20260421T050720
CREATED:20230120T184803Z
LAST-MODIFIED:20230120T184803Z
UID:4706-1677610800-1677610800@hinescreek.com
SUMMARY:Regular Council Meeting
DESCRIPTION:
URL:https://hinescreek.com/event/regular-council-meeting-13/
LOCATION:Municipal Building\, 212 10TH STREET\, HINES CREEK\, AB\, T0H 2A0\, Canada
END:VEVENT
BEGIN:VEVENT
DTSTART;TZID=America/Edmonton:20230226T160000
DTEND;TZID=America/Edmonton:20230226T180000
DTSTAMP:20260421T050720
CREATED:20221018T173833Z
LAST-MODIFIED:20221018T173833Z
UID:4573-1677427200-1677434400@hinescreek.com
SUMMARY:Free Public & Shinny Skate
DESCRIPTION:
URL:https://hinescreek.com/event/free-public-shinny-skate-17/
END:VEVENT
BEGIN:VEVENT
DTSTART;TZID=America/Edmonton:20230222T130000
DTEND;TZID=America/Edmonton:20230222T130000
DTSTAMP:20260421T050720
CREATED:20230120T203040Z
LAST-MODIFIED:20230120T213145Z
UID:4747-1677070800-1677070800@hinescreek.com
SUMMARY:Arts and Crafts Open House
DESCRIPTION:
URL:https://hinescreek.com/event/arts-and-crafts-open-house-20/
END:VEVENT
BEGIN:VEVENT
DTSTART;TZID=America/Edmonton:20230221T190000
DTEND;TZID=America/Edmonton:20230221T190000
DTSTAMP:20260421T050720
CREATED:20230120T203007Z
LAST-MODIFIED:20230120T212419Z
UID:4733-1677006000-1677006000@hinescreek.com
SUMMARY:Hines Creek Volunteer Fire Department Meeting
DESCRIPTION:
URL:https://hinescreek.com/event/hines-creek-volunteer-fire-department-meeting-9/
END:VEVENT
BEGIN:VEVENT
DTSTART;TZID=America/Edmonton:20230220T130000
DTEND;TZID=America/Edmonton:20230220T160000
DTSTAMP:20260421T050720
CREATED:20230119T204026Z
LAST-MODIFIED:20230119T205509Z
UID:4688-1676898000-1676908800@hinescreek.com
SUMMARY:Family Day Free Skate
DESCRIPTION:
URL:https://hinescreek.com/event/family-day-free-skate/
LOCATION:Dave Shaw Memorial Complex\, 712 8th Street\, Hines Creek
END:VEVENT
BEGIN:VEVENT
DTSTART;VALUE=DATE:20230220
DTEND;VALUE=DATE:20230221
DTSTAMP:20260421T050720
CREATED:20230207T214302Z
LAST-MODIFIED:20230207T214302Z
UID:4959-1676851200-1676937599@hinescreek.com
SUMMARY:Village Office Closed - Family Day
DESCRIPTION:
URL:https://hinescreek.com/event/village-office-closed-family-day/
LOCATION:Municipal Building\, 212 10TH STREET\, HINES CREEK\, AB\, T0H 2A0\, Canada
END:VEVENT
BEGIN:VEVENT
DTSTART;TZID=America/Edmonton:20230219T160000
DTEND;TZID=America/Edmonton:20230219T180000
DTSTAMP:20260421T050720
CREATED:20221018T173833Z
LAST-MODIFIED:20221018T173833Z
UID:4572-1676822400-1676829600@hinescreek.com
SUMMARY:Free Public & Shinny Skate
DESCRIPTION:
URL:https://hinescreek.com/event/free-public-shinny-skate-16/
END:VEVENT
BEGIN:VEVENT
DTSTART;TZID=America/Edmonton:20230217T130000
DTEND;TZID=America/Edmonton:20230217T150000
DTSTAMP:20260421T050720
CREATED:20230119T203636Z
LAST-MODIFIED:20230119T203636Z
UID:4683-1676638800-1676646000@hinescreek.com
SUMMARY:PUBLIC SKATE & SHINNY HOCKEY BY DONATION
DESCRIPTION:
URL:https://hinescreek.com/event/public-skate-shinny-hockey-by-donation-3/
LOCATION:Dave Shaw Memorial Complex\, 712 8th Street\, Hines Creek
END:VEVENT
BEGIN:VEVENT
DTSTART;TZID=America/Edmonton:20230215T130000
DTEND;TZID=America/Edmonton:20230215T130000
DTSTAMP:20260421T050720
CREATED:20230120T203025Z
LAST-MODIFIED:20230120T213145Z
UID:4746-1676466000-1676466000@hinescreek.com
SUMMARY:Arts and Crafts Open House
DESCRIPTION:
URL:https://hinescreek.com/event/arts-and-crafts-open-house-19/
END:VEVENT
BEGIN:VEVENT
DTSTART;TZID=America/Edmonton:20230214T190000
DTEND;TZID=America/Edmonton:20230214T190000
DTSTAMP:20260421T050720
CREATED:20230120T184803Z
LAST-MODIFIED:20230120T184803Z
UID:4705-1676401200-1676401200@hinescreek.com
SUMMARY:Regular Council Meeting
DESCRIPTION:
URL:https://hinescreek.com/event/regular-council-meeting-12/
LOCATION:Municipal Building\, 212 10TH STREET\, HINES CREEK\, AB\, T0H 2A0\, Canada
END:VEVENT
BEGIN:VEVENT
DTSTART;TZID=America/Edmonton:20230212T160000
DTEND;TZID=America/Edmonton:20230212T180000
DTSTAMP:20260421T050720
CREATED:20221018T173817Z
LAST-MODIFIED:20221018T173817Z
UID:4571-1676217600-1676224800@hinescreek.com
SUMMARY:Free Public & Shinny Skate
DESCRIPTION:
URL:https://hinescreek.com/event/free-public-shinny-skate-15/
END:VEVENT
BEGIN:VEVENT
DTSTART;TZID=America/Edmonton:20230208T130000
DTEND;TZID=America/Edmonton:20230208T130000
DTSTAMP:20260421T050720
CREATED:20230120T203025Z
LAST-MODIFIED:20230120T213145Z
UID:4745-1675861200-1675861200@hinescreek.com
SUMMARY:Arts and Crafts Open House
DESCRIPTION:
URL:https://hinescreek.com/event/arts-and-crafts-open-house-18/
END:VEVENT
BEGIN:VEVENT
DTSTART;TZID=America/Edmonton:20230206T190000
DTEND;TZID=America/Edmonton:20230206T190000
DTSTAMP:20260421T050720
CREATED:20230120T204457Z
LAST-MODIFIED:20230120T212419Z
UID:4793-1675710000-1675710000@hinescreek.com
SUMMARY:Hines Creek Volunteer Fire Department Meeting
DESCRIPTION:
URL:https://hinescreek.com/event/hines-creek-volunteer-fire-department-meeting-19/
END:VEVENT
BEGIN:VEVENT
DTSTART;TZID=America/Edmonton:20230205T160000
DTEND;TZID=America/Edmonton:20230205T180000
DTSTAMP:20260421T050720
CREATED:20221018T173816Z
LAST-MODIFIED:20221018T173816Z
UID:4570-1675612800-1675620000@hinescreek.com
SUMMARY:Free Public & Shinny Skate
DESCRIPTION:
URL:https://hinescreek.com/event/free-public-shinny-skate-14/
END:VEVENT
BEGIN:VEVENT
DTSTART;TZID=America/Edmonton:20230201T130000
DTEND;TZID=America/Edmonton:20230201T130000
DTSTAMP:20260421T050720
CREATED:20230120T203025Z
LAST-MODIFIED:20230120T213145Z
UID:4744-1675256400-1675256400@hinescreek.com
SUMMARY:Arts and Crafts Open House
DESCRIPTION:
URL:https://hinescreek.com/event/arts-and-crafts-open-house-17/
END:VEVENT
BEGIN:VEVENT
DTSTART;TZID=America/Edmonton:20230130T130000
DTEND;TZID=America/Edmonton:20230130T150000
DTSTAMP:20260421T050720
CREATED:20230119T203504Z
LAST-MODIFIED:20230119T203504Z
UID:4678-1675083600-1675090800@hinescreek.com
SUMMARY:PUBLIC SKATE & SHINNY HOCKEY BY DONATION
DESCRIPTION:
URL:https://hinescreek.com/event/public-skate-shinny-hockey-by-donation/
LOCATION:Dave Shaw Memorial Complex\, 712 8th Street\, Hines Creek
END:VEVENT
BEGIN:VEVENT
DTSTART;TZID=America/Edmonton:20230129T160000
DTEND;TZID=America/Edmonton:20230129T180000
DTSTAMP:20260421T050720
CREATED:20221018T173816Z
LAST-MODIFIED:20221018T173816Z
UID:4569-1675008000-1675015200@hinescreek.com
SUMMARY:Free Public & Shinny Skate
DESCRIPTION:
URL:https://hinescreek.com/event/free-public-shinny-skate-13/
END:VEVENT
BEGIN:VEVENT
DTSTART;TZID=America/Edmonton:20230125T130000
DTEND;TZID=America/Edmonton:20230125T130000
DTSTAMP:20260421T050720
CREATED:20230120T203025Z
LAST-MODIFIED:20230120T213145Z
UID:4743-1674651600-1674651600@hinescreek.com
SUMMARY:Arts and Crafts Open House
DESCRIPTION:
URL:https://hinescreek.com/event/arts-and-crafts-open-house-16/
END:VEVENT
BEGIN:VEVENT
DTSTART;TZID=America/Edmonton:20230124T190000
DTEND;TZID=America/Edmonton:20230124T190000
DTSTAMP:20260421T050720
CREATED:20230120T184803Z
LAST-MODIFIED:20230120T184803Z
UID:4704-1674586800-1674586800@hinescreek.com
SUMMARY:Regular Council Meeting
DESCRIPTION:
URL:https://hinescreek.com/event/regular-council-meeting-11/
LOCATION:Municipal Building\, 212 10TH STREET\, HINES CREEK\, AB\, T0H 2A0\, Canada
END:VEVENT
BEGIN:VEVENT
DTSTART;TZID=America/Edmonton:20230122T160000
DTEND;TZID=America/Edmonton:20230122T180000
DTSTAMP:20260421T050720
CREATED:20221018T173816Z
LAST-MODIFIED:20221018T173816Z
UID:4568-1674403200-1674410400@hinescreek.com
SUMMARY:Free Public & Shinny Skate
DESCRIPTION:
URL:https://hinescreek.com/event/free-public-shinny-skate-12/
END:VEVENT
BEGIN:VEVENT
DTSTART;TZID=America/Edmonton:20230115T160000
DTEND;TZID=America/Edmonton:20230115T180000
DTSTAMP:20260421T050720
CREATED:20221018T173816Z
LAST-MODIFIED:20221018T173816Z
UID:4567-1673798400-1673805600@hinescreek.com
SUMMARY:Free Public & Shinny Skate
DESCRIPTION:
URL:https://hinescreek.com/event/free-public-shinny-skate-11/
END:VEVENT
BEGIN:VEVENT
DTSTART;TZID=America/Edmonton:20230108T160000
DTEND;TZID=America/Edmonton:20230108T180000
DTSTAMP:20260421T050720
CREATED:20221018T173740Z
LAST-MODIFIED:20221018T173740Z
UID:4566-1673193600-1673200800@hinescreek.com
SUMMARY:Free Public & Shinny Skate
DESCRIPTION:
URL:https://hinescreek.com/event/free-public-shinny-skate-10/
END:VEVENT
BEGIN:VEVENT
DTSTART;TZID=America/Edmonton:20230101T160000
DTEND;TZID=America/Edmonton:20230101T180000
DTSTAMP:20260421T050720
CREATED:20221017T200814Z
LAST-MODIFIED:20221017T200814Z
UID:4547-1672588800-1672596000@hinescreek.com
SUMMARY:Shinny Hockey & Public Skating
DESCRIPTION:
URL:https://hinescreek.com/event/shinny-hockey-public-skating-4/
LOCATION:Dave Shaw Memorial Complex\, 712 8th Street\, Hines Creek
END:VEVENT
BEGIN:VEVENT
DTSTART;TZID=America/Edmonton:20221230T160000
DTEND;TZID=America/Edmonton:20221230T180000
DTSTAMP:20260421T050720
CREATED:20221017T200557Z
LAST-MODIFIED:20221017T200638Z
UID:4544-1672416000-1672423200@hinescreek.com
SUMMARY:Shinny Hockey & Public Skating
DESCRIPTION:
URL:https://hinescreek.com/event/shinny-hockey-public-skating-3/
LOCATION:Dave Shaw Memorial Complex\, 712 8th Street\, Hines Creek
END:VEVENT
BEGIN:VEVENT
DTSTART;TZID=America/Edmonton:20221228T160000
DTEND;TZID=America/Edmonton:20221228T180000
DTSTAMP:20260421T050720
CREATED:20221017T200519Z
LAST-MODIFIED:20221017T200519Z
UID:4542-1672243200-1672250400@hinescreek.com
SUMMARY:Shinny Hockey & Public Skating
DESCRIPTION:
URL:https://hinescreek.com/event/shinny-hockey-public-skating-2/
LOCATION:Dave Shaw Memorial Complex\, 712 8th Street\, Hines Creek
END:VEVENT
BEGIN:VEVENT
DTSTART;TZID=America/Edmonton:20221228T130000
DTEND;TZID=America/Edmonton:20221228T130000
DTSTAMP:20260421T050720
CREATED:20220914T221604Z
LAST-MODIFIED:20220914T221604Z
UID:4421-1672232400-1672232400@hinescreek.com
SUMMARY:Arts and Crafts Open House
DESCRIPTION:
URL:https://hinescreek.com/event/arts-and-crafts-open-house-15/
END:VEVENT
BEGIN:VEVENT
DTSTART;TZID=America/Edmonton:20221226T160000
DTEND;TZID=America/Edmonton:20221226T180000
DTSTAMP:20260421T050720
CREATED:20221017T200433Z
LAST-MODIFIED:20221017T200433Z
UID:4539-1672070400-1672077600@hinescreek.com
SUMMARY:Shinny Hockey & Public Skating
DESCRIPTION:
URL:https://hinescreek.com/event/shinny-hockey-public-skating/
LOCATION:Dave Shaw Memorial Complex\, 712 8th Street\, Hines Creek
END:VEVENT
BEGIN:VEVENT
DTSTART;VALUE=DATE:20221224
DTEND;VALUE=DATE:20230104
DTSTAMP:20260421T050720
CREATED:20221017T200122Z
LAST-MODIFIED:20221017T200122Z
UID:4535-1671840000-1672790399@hinescreek.com
SUMMARY:Christmas Holidays - Office Closed
DESCRIPTION:
URL:https://hinescreek.com/event/christmas-holidays-office-closed/
LOCATION:Municipal Building\, 212 10TH STREET\, HINES CREEK\, AB\, T0H 2A0\, Canada
END:VEVENT
BEGIN:VEVENT
DTSTART;TZID=America/Edmonton:20221221T130000
DTEND;TZID=America/Edmonton:20221221T130000
DTSTAMP:20260421T050720
CREATED:20220914T221549Z
LAST-MODIFIED:20220914T221549Z
UID:4420-1671627600-1671627600@hinescreek.com
SUMMARY:Arts and Crafts Open House
DESCRIPTION:
URL:https://hinescreek.com/event/arts-and-crafts-open-house-14/
END:VEVENT
BEGIN:VEVENT
DTSTART;TZID=America/Edmonton:20221220T190000
DTEND;TZID=America/Edmonton:20221220T190000
DTSTAMP:20260421T050720
CREATED:20220914T221519Z
LAST-MODIFIED:20220914T221519Z
UID:4406-1671562800-1671562800@hinescreek.com
SUMMARY:Hines Creek and Disctrict Ag Society Meeting
DESCRIPTION:
URL:https://hinescreek.com/event/hines-creek-and-disctrict-ag-society-meeting-4/
END:VEVENT
END:VCALENDAR