BEGIN:VCALENDAR
VERSION:2.0
PRODID:-//Village of Hines Creek - ECPv6.10.2//NONSGML v1.0//EN
CALSCALE:GREGORIAN
METHOD:PUBLISH
X-WR-CALNAME:Village of Hines Creek
X-ORIGINAL-URL:https://hinescreek.com
X-WR-CALDESC:Events for Village of Hines Creek
REFRESH-INTERVAL;VALUE=DURATION:PT1H
X-Robots-Tag:noindex
X-PUBLISHED-TTL:PT1H
BEGIN:VTIMEZONE
TZID:America/Edmonton
BEGIN:DAYLIGHT
TZOFFSETFROM:-0700
TZOFFSETTO:-0600
TZNAME:MDT
DTSTART:20220313T090000
END:DAYLIGHT
BEGIN:STANDARD
TZOFFSETFROM:-0600
TZOFFSETTO:-0700
TZNAME:MST
DTSTART:20221106T080000
END:STANDARD
BEGIN:DAYLIGHT
TZOFFSETFROM:-0700
TZOFFSETTO:-0600
TZNAME:MDT
DTSTART:20230312T090000
END:DAYLIGHT
BEGIN:STANDARD
TZOFFSETFROM:-0600
TZOFFSETTO:-0700
TZNAME:MST
DTSTART:20231105T080000
END:STANDARD
END:VTIMEZONE
BEGIN:VEVENT
DTSTART;TZID=America/Edmonton:20221228T160000
DTEND;TZID=America/Edmonton:20221228T180000
DTSTAMP:20260423T035111
CREATED:20221017T200519Z
LAST-MODIFIED:20221017T200519Z
UID:4542-1672243200-1672250400@hinescreek.com
SUMMARY:Shinny Hockey & Public Skating
DESCRIPTION:
URL:https://hinescreek.com/event/shinny-hockey-public-skating-2/
LOCATION:Dave Shaw Memorial Complex\, 712 8th Street\, Hines Creek
END:VEVENT
BEGIN:VEVENT
DTSTART;TZID=America/Edmonton:20221228T130000
DTEND;TZID=America/Edmonton:20221228T130000
DTSTAMP:20260423T035111
CREATED:20220914T221604Z
LAST-MODIFIED:20220914T221604Z
UID:4421-1672232400-1672232400@hinescreek.com
SUMMARY:Arts and Crafts Open House
DESCRIPTION:
URL:https://hinescreek.com/event/arts-and-crafts-open-house-15/
END:VEVENT
BEGIN:VEVENT
DTSTART;TZID=America/Edmonton:20221226T160000
DTEND;TZID=America/Edmonton:20221226T180000
DTSTAMP:20260423T035111
CREATED:20221017T200433Z
LAST-MODIFIED:20221017T200433Z
UID:4539-1672070400-1672077600@hinescreek.com
SUMMARY:Shinny Hockey & Public Skating
DESCRIPTION:
URL:https://hinescreek.com/event/shinny-hockey-public-skating/
LOCATION:Dave Shaw Memorial Complex\, 712 8th Street\, Hines Creek
END:VEVENT
BEGIN:VEVENT
DTSTART;VALUE=DATE:20221224
DTEND;VALUE=DATE:20230104
DTSTAMP:20260423T035111
CREATED:20221017T200122Z
LAST-MODIFIED:20221017T200122Z
UID:4535-1671840000-1672790399@hinescreek.com
SUMMARY:Christmas Holidays - Office Closed
DESCRIPTION:
URL:https://hinescreek.com/event/christmas-holidays-office-closed/
LOCATION:Municipal Building\, 212 10TH STREET\, HINES CREEK\, AB\, T0H 2A0\, Canada
END:VEVENT
BEGIN:VEVENT
DTSTART;TZID=America/Edmonton:20221221T130000
DTEND;TZID=America/Edmonton:20221221T130000
DTSTAMP:20260423T035111
CREATED:20220914T221549Z
LAST-MODIFIED:20220914T221549Z
UID:4420-1671627600-1671627600@hinescreek.com
SUMMARY:Arts and Crafts Open House
DESCRIPTION:
URL:https://hinescreek.com/event/arts-and-crafts-open-house-14/
END:VEVENT
BEGIN:VEVENT
DTSTART;TZID=America/Edmonton:20221220T190000
DTEND;TZID=America/Edmonton:20221220T190000
DTSTAMP:20260423T035111
CREATED:20220914T221519Z
LAST-MODIFIED:20220914T221519Z
UID:4406-1671562800-1671562800@hinescreek.com
SUMMARY:Hines Creek and Disctrict Ag Society Meeting
DESCRIPTION:
URL:https://hinescreek.com/event/hines-creek-and-disctrict-ag-society-meeting-4/
END:VEVENT
BEGIN:VEVENT
DTSTART;TZID=America/Edmonton:20221219T100000
DTEND;TZID=America/Edmonton:20221219T110000
DTSTAMP:20260423T035111
CREATED:20220921T221155Z
LAST-MODIFIED:20220921T221155Z
UID:4494-1671444000-1671447600@hinescreek.com
SUMMARY:Moms & Tots
DESCRIPTION:
URL:https://hinescreek.com/event/moms-tots-12/
LOCATION:Hines Creek Municipal Library\, 212 10TH STREET\, HINES CREEK\, AB\, T0H 2A0\, Canada
ORGANIZER;CN="Hines Creek Municipal Library":MAILTO:librarian@hinescreeklibrary.ab.ca
END:VEVENT
BEGIN:VEVENT
DTSTART;TZID=America/Edmonton:20221218T160000
DTEND;TZID=America/Edmonton:20221218T180000
DTSTAMP:20260423T035111
CREATED:20221018T173740Z
LAST-MODIFIED:20221018T173740Z
UID:4565-1671379200-1671386400@hinescreek.com
SUMMARY:Free Public & Shinny Skate
DESCRIPTION:
URL:https://hinescreek.com/event/free-public-shinny-skate-9/
END:VEVENT
BEGIN:VEVENT
DTSTART;TZID=America/Edmonton:20221214T130000
DTEND;TZID=America/Edmonton:20221214T130000
DTSTAMP:20260423T035111
CREATED:20220914T221549Z
LAST-MODIFIED:20220914T221549Z
UID:4419-1671022800-1671022800@hinescreek.com
SUMMARY:Arts and Crafts Open House
DESCRIPTION:
URL:https://hinescreek.com/event/arts-and-crafts-open-house-13/
END:VEVENT
BEGIN:VEVENT
DTSTART;TZID=America/Edmonton:20221213T090000
DTEND;TZID=America/Edmonton:20221213T130000
DTSTAMP:20260423T035111
CREATED:20220914T191017Z
LAST-MODIFIED:20220914T191017Z
UID:4392-1670922000-1670936400@hinescreek.com
SUMMARY:Regular Council Meeting
DESCRIPTION:
URL:https://hinescreek.com/event/regular-council-meeting-10/
LOCATION:Municipal Building\, 212 10TH STREET\, HINES CREEK\, AB\, T0H 2A0\, Canada
END:VEVENT
BEGIN:VEVENT
DTSTART;TZID=America/Edmonton:20221212T100000
DTEND;TZID=America/Edmonton:20221212T110000
DTSTAMP:20260423T035111
CREATED:20220921T221155Z
LAST-MODIFIED:20220921T221155Z
UID:4493-1670839200-1670842800@hinescreek.com
SUMMARY:Moms & Tots
DESCRIPTION:
URL:https://hinescreek.com/event/moms-tots-11/
LOCATION:Hines Creek Municipal Library\, 212 10TH STREET\, HINES CREEK\, AB\, T0H 2A0\, Canada
ORGANIZER;CN="Hines Creek Municipal Library":MAILTO:librarian@hinescreeklibrary.ab.ca
END:VEVENT
BEGIN:VEVENT
DTSTART;TZID=America/Edmonton:20221211T160000
DTEND;TZID=America/Edmonton:20221211T180000
DTSTAMP:20260423T035111
CREATED:20221018T173740Z
LAST-MODIFIED:20221018T173740Z
UID:4564-1670774400-1670781600@hinescreek.com
SUMMARY:Free Public & Shinny Skate
DESCRIPTION:
URL:https://hinescreek.com/event/free-public-shinny-skate-8/
END:VEVENT
BEGIN:VEVENT
DTSTART;TZID=America/Edmonton:20221207T130000
DTEND;TZID=America/Edmonton:20221207T130000
DTSTAMP:20260423T035111
CREATED:20220914T221549Z
LAST-MODIFIED:20220914T221549Z
UID:4418-1670418000-1670418000@hinescreek.com
SUMMARY:Arts and Crafts Open House
DESCRIPTION:
URL:https://hinescreek.com/event/arts-and-crafts-open-house-12/
END:VEVENT
BEGIN:VEVENT
DTSTART;TZID=America/Edmonton:20221205T100000
DTEND;TZID=America/Edmonton:20221205T110000
DTSTAMP:20260423T035111
CREATED:20220921T221155Z
LAST-MODIFIED:20220921T221155Z
UID:4492-1670234400-1670238000@hinescreek.com
SUMMARY:Moms & Tots
DESCRIPTION:
URL:https://hinescreek.com/event/moms-tots-10/
LOCATION:Hines Creek Municipal Library\, 212 10TH STREET\, HINES CREEK\, AB\, T0H 2A0\, Canada
ORGANIZER;CN="Hines Creek Municipal Library":MAILTO:librarian@hinescreeklibrary.ab.ca
END:VEVENT
BEGIN:VEVENT
DTSTART;TZID=America/Edmonton:20221204T160000
DTEND;TZID=America/Edmonton:20221204T180000
DTSTAMP:20260423T035111
CREATED:20221018T173740Z
LAST-MODIFIED:20221018T173740Z
UID:4563-1670169600-1670176800@hinescreek.com
SUMMARY:Free Public & Shinny Skate
DESCRIPTION:
URL:https://hinescreek.com/event/free-public-shinny-skate-7/
END:VEVENT
BEGIN:VEVENT
DTSTART;TZID=America/Edmonton:20221203T180000
DTEND;TZID=America/Edmonton:20221203T180000
DTSTAMP:20260423T035111
CREATED:20221109T175948Z
LAST-MODIFIED:20221109T180103Z
UID:4615-1670090400-1670090400@hinescreek.com
SUMMARY:Christmas Dine and Dance
DESCRIPTION:
URL:https://hinescreek.com/event/christmas-dine-and-dance/
LOCATION:Dave Shaw Memorial Complex\, 712 8th Street\, Hines Creek
END:VEVENT
BEGIN:VEVENT
DTSTART;TZID=America/Edmonton:20221202T150000
DTEND;TZID=America/Edmonton:20221202T200000
DTSTAMP:20260423T035111
CREATED:20221109T175724Z
LAST-MODIFIED:20221109T175724Z
UID:4609-1669993200-1670011200@hinescreek.com
SUMMARY:Country Christmas
DESCRIPTION:
URL:https://hinescreek.com/event/country-christmas/
LOCATION:Dave Shaw Memorial Complex\, 712 8th Street\, Hines Creek
END:VEVENT
BEGIN:VEVENT
DTSTART;TZID=America/Edmonton:20221130T130000
DTEND;TZID=America/Edmonton:20221130T130000
DTSTAMP:20260423T035111
CREATED:20220914T221549Z
LAST-MODIFIED:20220914T221549Z
UID:4417-1669813200-1669813200@hinescreek.com
SUMMARY:Arts and Crafts Open House
DESCRIPTION:
URL:https://hinescreek.com/event/arts-and-crafts-open-house-11/
END:VEVENT
BEGIN:VEVENT
DTSTART;TZID=America/Edmonton:20221128T100000
DTEND;TZID=America/Edmonton:20221128T110000
DTSTAMP:20260423T035111
CREATED:20220921T221141Z
LAST-MODIFIED:20220921T221141Z
UID:4487-1669629600-1669633200@hinescreek.com
SUMMARY:Moms & Tots
DESCRIPTION:
URL:https://hinescreek.com/event/moms-tots-9/
LOCATION:Hines Creek Municipal Library\, 212 10TH STREET\, HINES CREEK\, AB\, T0H 2A0\, Canada
ORGANIZER;CN="Hines Creek Municipal Library":MAILTO:librarian@hinescreeklibrary.ab.ca
END:VEVENT
BEGIN:VEVENT
DTSTART;TZID=America/Edmonton:20221127T190000
DTEND;TZID=America/Edmonton:20221127T210000
DTSTAMP:20260423T035111
CREATED:20220914T172103Z
LAST-MODIFIED:20220914T172103Z
UID:4370-1669575600-1669582800@hinescreek.com
SUMMARY:Level 2 Small Business Accounting with quickbooks
DESCRIPTION:
URL:https://hinescreek.com/event/level-2-small-business-accounting-with-quickbooks-4/
END:VEVENT
BEGIN:VEVENT
DTSTART;TZID=America/Edmonton:20221127T160000
DTEND;TZID=America/Edmonton:20221127T180000
DTSTAMP:20260423T035111
CREATED:20221018T173739Z
LAST-MODIFIED:20221018T173739Z
UID:4562-1669564800-1669572000@hinescreek.com
SUMMARY:Free Public & Shinny Skate
DESCRIPTION:
URL:https://hinescreek.com/event/free-public-shinny-skate-6/
END:VEVENT
BEGIN:VEVENT
DTSTART;TZID=America/Edmonton:20221125T190000
DTEND;TZID=America/Edmonton:20221125T210000
DTSTAMP:20260423T035111
CREATED:20220914T172007Z
LAST-MODIFIED:20220914T172007Z
UID:4368-1669402800-1669410000@hinescreek.com
SUMMARY:Level 2 Small Business Accounting with quickbooks
DESCRIPTION:
URL:https://hinescreek.com/event/level-2-small-business-accounting-with-quickbooks-3/
END:VEVENT
BEGIN:VEVENT
DTSTART;TZID=America/Edmonton:20221123T130000
DTEND;TZID=America/Edmonton:20221123T130000
DTSTAMP:20260423T035111
CREATED:20220914T221549Z
LAST-MODIFIED:20220914T221549Z
UID:4416-1669208400-1669208400@hinescreek.com
SUMMARY:Arts and Crafts Open House
DESCRIPTION:
URL:https://hinescreek.com/event/arts-and-crafts-open-house-10/
END:VEVENT
BEGIN:VEVENT
DTSTART;TZID=America/Edmonton:20221122T090000
DTEND;TZID=America/Edmonton:20221122T130000
DTSTAMP:20260423T035111
CREATED:20220914T191015Z
LAST-MODIFIED:20220914T191015Z
UID:4391-1669107600-1669122000@hinescreek.com
SUMMARY:Regular Council Meeting
DESCRIPTION:
URL:https://hinescreek.com/event/regular-council-meeting-9/
LOCATION:Municipal Building\, 212 10TH STREET\, HINES CREEK\, AB\, T0H 2A0\, Canada
END:VEVENT
BEGIN:VEVENT
DTSTART;TZID=America/Edmonton:20221121T100000
DTEND;TZID=America/Edmonton:20221121T110000
DTSTAMP:20260423T035111
CREATED:20220921T221139Z
LAST-MODIFIED:20220921T221141Z
UID:4482-1669024800-1669028400@hinescreek.com
SUMMARY:Moms & Tots
DESCRIPTION:
URL:https://hinescreek.com/event/moms-tots-5/
LOCATION:Hines Creek Municipal Library\, 212 10TH STREET\, HINES CREEK\, AB\, T0H 2A0\, Canada
ORGANIZER;CN="Hines Creek Municipal Library":MAILTO:librarian@hinescreeklibrary.ab.ca
END:VEVENT
BEGIN:VEVENT
DTSTART;TZID=America/Edmonton:20221120T160000
DTEND;TZID=America/Edmonton:20221120T180000
DTSTAMP:20260423T035111
CREATED:20221018T173737Z
LAST-MODIFIED:20221018T173737Z
UID:4561-1668960000-1668967200@hinescreek.com
SUMMARY:Free Public & Shinny Skate
DESCRIPTION:
URL:https://hinescreek.com/event/free-public-shinny-skate-5/
END:VEVENT
BEGIN:VEVENT
DTSTART;TZID=America/Edmonton:20221116T130000
DTEND;TZID=America/Edmonton:20221116T130000
DTSTAMP:20260423T035111
CREATED:20220914T221534Z
LAST-MODIFIED:20220914T221534Z
UID:4415-1668603600-1668603600@hinescreek.com
SUMMARY:Arts and Crafts Open House
DESCRIPTION:
URL:https://hinescreek.com/event/arts-and-crafts-open-house-9/
END:VEVENT
BEGIN:VEVENT
DTSTART;TZID=America/Edmonton:20221115T190000
DTEND;TZID=America/Edmonton:20221115T190000
DTSTAMP:20260423T035111
CREATED:20220914T221507Z
LAST-MODIFIED:20220914T221507Z
UID:4405-1668538800-1668538800@hinescreek.com
SUMMARY:Hines Creek and Disctrict Ag Society Meeting
DESCRIPTION:
URL:https://hinescreek.com/event/hines-creek-and-disctrict-ag-society-meeting-3/
END:VEVENT
BEGIN:VEVENT
DTSTART;TZID=America/Edmonton:20221114T190000
DTEND;TZID=America/Edmonton:20221114T190000
DTSTAMP:20260423T035111
CREATED:20221109T175810Z
LAST-MODIFIED:20221109T175810Z
UID:4611-1668452400-1668452400@hinescreek.com
SUMMARY:Operating & Capital Budget Meeting
DESCRIPTION:
URL:https://hinescreek.com/event/operating-capital-budget-meeting-5/
LOCATION:Municipal Building\, 212 10TH STREET\, HINES CREEK\, AB\, T0H 2A0\, Canada
END:VEVENT
BEGIN:VEVENT
DTSTART;TZID=America/Edmonton:20221114T100000
DTEND;TZID=America/Edmonton:20221114T110000
DTSTAMP:20260423T035111
CREATED:20220921T221141Z
LAST-MODIFIED:20220921T221141Z
UID:4485-1668420000-1668423600@hinescreek.com
SUMMARY:Moms & Tots
DESCRIPTION:
URL:https://hinescreek.com/event/moms-tots-8/
LOCATION:Hines Creek Municipal Library\, 212 10TH STREET\, HINES CREEK\, AB\, T0H 2A0\, Canada
ORGANIZER;CN="Hines Creek Municipal Library":MAILTO:librarian@hinescreeklibrary.ab.ca
END:VEVENT
END:VCALENDAR