BEGIN:VCALENDAR
VERSION:2.0
PRODID:-//Village of Hines Creek - ECPv6.10.2//NONSGML v1.0//EN
CALSCALE:GREGORIAN
METHOD:PUBLISH
X-WR-CALNAME:Village of Hines Creek
X-ORIGINAL-URL:https://hinescreek.com
X-WR-CALDESC:Events for Village of Hines Creek
REFRESH-INTERVAL;VALUE=DURATION:PT1H
X-Robots-Tag:noindex
X-PUBLISHED-TTL:PT1H
BEGIN:VTIMEZONE
TZID:America/Edmonton
BEGIN:DAYLIGHT
TZOFFSETFROM:-0700
TZOFFSETTO:-0600
TZNAME:MDT
DTSTART:20220313T090000
END:DAYLIGHT
BEGIN:STANDARD
TZOFFSETFROM:-0600
TZOFFSETTO:-0700
TZNAME:MST
DTSTART:20221106T080000
END:STANDARD
END:VTIMEZONE
BEGIN:VEVENT
DTSTART;TZID=America/Edmonton:20221109T130000
DTEND;TZID=America/Edmonton:20221109T130000
DTSTAMP:20260422T043754
CREATED:20220914T221534Z
LAST-MODIFIED:20220914T221534Z
UID:4414-1667998800-1667998800@hinescreek.com
SUMMARY:Arts and Crafts Open House
DESCRIPTION:
URL:https://hinescreek.com/event/arts-and-crafts-open-house-8/
LOCATION:AB
END:VEVENT
BEGIN:VEVENT
DTSTART;TZID=America/Edmonton:20221108T190000
DTEND;TZID=America/Edmonton:20221108T210000
DTSTAMP:20260422T043754
CREATED:20220914T171811Z
LAST-MODIFIED:20220914T171811Z
UID:4364-1667934000-1667941200@hinescreek.com
SUMMARY:Level 2 Small Business Accounting with quickbooks
DESCRIPTION:
URL:https://hinescreek.com/event/level-2-small-business-accounting-with-quickbooks/
LOCATION:AB
END:VEVENT
BEGIN:VEVENT
DTSTART;TZID=America/Edmonton:20221108T090000
DTEND;TZID=America/Edmonton:20221108T130000
DTSTAMP:20260422T043754
CREATED:20220914T191015Z
LAST-MODIFIED:20220914T191015Z
UID:4390-1667898000-1667912400@hinescreek.com
SUMMARY:Regular Council Meeting
DESCRIPTION:
URL:https://hinescreek.com/event/regular-council-meeting-8/
LOCATION:Municipal Building\, 212 10TH STREET\, HINES CREEK\, AB\, T0H 2A0\, Canada
END:VEVENT
BEGIN:VEVENT
DTSTART;TZID=America/Edmonton:20221107T100000
DTEND;TZID=America/Edmonton:20221107T110000
DTSTAMP:20260422T043754
CREATED:20220921T221140Z
LAST-MODIFIED:20220921T221141Z
UID:4484-1667815200-1667818800@hinescreek.com
SUMMARY:Moms & Tots
DESCRIPTION:
URL:https://hinescreek.com/event/moms-tots-7/
LOCATION:Hines Creek Municipal Library\, 212 10TH STREET\, HINES CREEK\, AB\, T0H 2A0\, Canada
ORGANIZER;CN="Hines Creek Municipal Library":MAILTO:librarian@hinescreeklibrary.ab.ca
END:VEVENT
BEGIN:VEVENT
DTSTART;TZID=America/Edmonton:20221106T160000
DTEND;TZID=America/Edmonton:20221106T180000
DTSTAMP:20260422T043754
CREATED:20221018T173737Z
LAST-MODIFIED:20221018T173737Z
UID:4559-1667750400-1667757600@hinescreek.com
SUMMARY:Free Public & Shinny Skate
DESCRIPTION:
URL:https://hinescreek.com/event/free-public-shinny-skate-3/
LOCATION:AB
END:VEVENT
BEGIN:VEVENT
DTSTART;TZID=America/Edmonton:20221103T190000
DTEND;TZID=America/Edmonton:20221103T210000
DTSTAMP:20260422T043754
CREATED:20220913T222928Z
LAST-MODIFIED:20220913T222928Z
UID:4355-1667502000-1667509200@hinescreek.com
SUMMARY:Level 1 Small Business Accounting with quickbooks
DESCRIPTION:
URL:https://hinescreek.com/event/level-1-small-business-accounting-with-quickbooks-4/
LOCATION:AB
END:VEVENT
BEGIN:VEVENT
DTSTART;TZID=America/Edmonton:20221102T130000
DTEND;TZID=America/Edmonton:20221102T130000
DTSTAMP:20260422T043754
CREATED:20220914T221534Z
LAST-MODIFIED:20220914T221534Z
UID:4413-1667394000-1667394000@hinescreek.com
SUMMARY:Arts and Crafts Open House
DESCRIPTION:
URL:https://hinescreek.com/event/arts-and-crafts-open-house-7/
LOCATION:AB
END:VEVENT
BEGIN:VEVENT
DTSTART;TZID=America/Edmonton:20221102T100000
DTEND;TZID=America/Edmonton:20221102T150000
DTSTAMP:20260422T043754
CREATED:20220914T172156Z
LAST-MODIFIED:20220914T172156Z
UID:4372-1667383200-1667401200@hinescreek.com
SUMMARY:Grant Writing Workshop
DESCRIPTION:
URL:https://hinescreek.com/event/grant-writing-workshop/
LOCATION:AB
END:VEVENT
BEGIN:VEVENT
DTSTART;TZID=America/Edmonton:20221101T190000
DTEND;TZID=America/Edmonton:20221101T210000
DTSTAMP:20260422T043754
CREATED:20220913T222840Z
LAST-MODIFIED:20220913T222840Z
UID:4353-1667329200-1667336400@hinescreek.com
SUMMARY:Level 1 Small Business Accounting with quickbooks
DESCRIPTION:
URL:https://hinescreek.com/event/level-1-small-business-accounting-with-quickbooks-3/
LOCATION:AB
END:VEVENT
BEGIN:VEVENT
DTSTART;TZID=America/Edmonton:20221031T100000
DTEND;TZID=America/Edmonton:20221031T110000
DTSTAMP:20260422T043754
CREATED:20220921T221140Z
LAST-MODIFIED:20220921T221141Z
UID:4483-1667210400-1667214000@hinescreek.com
SUMMARY:Moms & Tots
DESCRIPTION:
URL:https://hinescreek.com/event/moms-tots-6/
LOCATION:Hines Creek Municipal Library\, 212 10TH STREET\, HINES CREEK\, AB\, T0H 2A0\, Canada
ORGANIZER;CN="Hines Creek Municipal Library":MAILTO:librarian@hinescreeklibrary.ab.ca
END:VEVENT
BEGIN:VEVENT
DTSTART;TZID=America/Edmonton:20221030T160000
DTEND;TZID=America/Edmonton:20221030T180000
DTSTAMP:20260422T043754
CREATED:20221018T173737Z
LAST-MODIFIED:20221018T173737Z
UID:4558-1667145600-1667152800@hinescreek.com
SUMMARY:Free Public & Shinny Skate
DESCRIPTION:
URL:https://hinescreek.com/event/free-public-shinny-skate-2/
LOCATION:AB
END:VEVENT
BEGIN:VEVENT
DTSTART;TZID=America/Edmonton:20221027T190000
DTEND;TZID=America/Edmonton:20221027T210000
DTSTAMP:20260422T043754
CREATED:20220913T222755Z
LAST-MODIFIED:20220913T222755Z
UID:4351-1666897200-1666904400@hinescreek.com
SUMMARY:Level 1 Small Business Accounting with quickbooks
DESCRIPTION:
URL:https://hinescreek.com/event/level-1-small-business-accounting-with-quickbooks-2/
LOCATION:AB
END:VEVENT
BEGIN:VEVENT
DTSTART;TZID=America/Edmonton:20221026T130000
DTEND;TZID=America/Edmonton:20221026T130000
DTSTAMP:20260422T043754
CREATED:20220914T221534Z
LAST-MODIFIED:20220914T221534Z
UID:4412-1666789200-1666789200@hinescreek.com
SUMMARY:Arts and Crafts Open House
DESCRIPTION:
URL:https://hinescreek.com/event/arts-and-crafts-open-house-6/
LOCATION:AB
END:VEVENT
BEGIN:VEVENT
DTSTART;TZID=America/Edmonton:20221025T190000
DTEND;TZID=America/Edmonton:20221025T210000
DTSTAMP:20260422T043754
CREATED:20220913T222712Z
LAST-MODIFIED:20220913T222712Z
UID:4349-1666724400-1666731600@hinescreek.com
SUMMARY:Level 1 Small Business Accounting with quickbooks
DESCRIPTION:
URL:https://hinescreek.com/event/level-1-small-business-accounting-with-quickbooks/
LOCATION:AB
END:VEVENT
BEGIN:VEVENT
DTSTART;TZID=America/Edmonton:20221025T090000
DTEND;TZID=America/Edmonton:20221025T130000
DTSTAMP:20260422T043754
CREATED:20220914T191015Z
LAST-MODIFIED:20220914T191015Z
UID:4389-1666688400-1666702800@hinescreek.com
SUMMARY:Regular Council Meeting
DESCRIPTION:
URL:https://hinescreek.com/event/regular-council-meeting-7/
LOCATION:Municipal Building\, 212 10TH STREET\, HINES CREEK\, AB\, T0H 2A0\, Canada
END:VEVENT
BEGIN:VEVENT
DTSTART;TZID=America/Edmonton:20221024T100000
DTEND;TZID=America/Edmonton:20221024T110000
DTSTAMP:20260422T043754
CREATED:20220921T221139Z
LAST-MODIFIED:20220921T221139Z
UID:4481-1666605600-1666609200@hinescreek.com
SUMMARY:Moms & Tots
DESCRIPTION:
URL:https://hinescreek.com/event/moms-tots-4/
LOCATION:Hines Creek Municipal Library\, 212 10TH STREET\, HINES CREEK\, AB\, T0H 2A0\, Canada
ORGANIZER;CN="Hines Creek Municipal Library":MAILTO:librarian@hinescreeklibrary.ab.ca
END:VEVENT
BEGIN:VEVENT
DTSTART;TZID=America/Edmonton:20221020T190000
DTEND;TZID=America/Edmonton:20221020T210000
DTSTAMP:20260422T043754
CREATED:20220913T222558Z
LAST-MODIFIED:20220913T222558Z
UID:4347-1666292400-1666299600@hinescreek.com
SUMMARY:Digital Marketing 101
DESCRIPTION:
URL:https://hinescreek.com/event/digital-marketing-101/
LOCATION:AB
END:VEVENT
BEGIN:VEVENT
DTSTART;TZID=America/Edmonton:20221019T130000
DTEND;TZID=America/Edmonton:20221019T130000
DTSTAMP:20260422T043754
CREATED:20220914T221534Z
LAST-MODIFIED:20220914T221534Z
UID:4411-1666184400-1666184400@hinescreek.com
SUMMARY:Arts and Crafts Open House
DESCRIPTION:
URL:https://hinescreek.com/event/arts-and-crafts-open-house-5/
LOCATION:AB
END:VEVENT
BEGIN:VEVENT
DTSTART;TZID=America/Edmonton:20221018T190000
DTEND;TZID=America/Edmonton:20221018T190000
DTSTAMP:20260422T043754
CREATED:20220914T221507Z
LAST-MODIFIED:20220914T221507Z
UID:4404-1666119600-1666119600@hinescreek.com
SUMMARY:Hines Creek and Disctrict Ag Society Meeting
DESCRIPTION:
URL:https://hinescreek.com/event/hines-creek-and-disctrict-ag-society-meeting-2/
LOCATION:AB
END:VEVENT
BEGIN:VEVENT
DTSTART;TZID=America/Edmonton:20221017T100000
DTEND;TZID=America/Edmonton:20221017T110000
DTSTAMP:20260422T043754
CREATED:20220921T221138Z
LAST-MODIFIED:20220921T221138Z
UID:4480-1666000800-1666004400@hinescreek.com
SUMMARY:Moms & Tots
DESCRIPTION:
URL:https://hinescreek.com/event/moms-tots-3/
LOCATION:Hines Creek Municipal Library\, 212 10TH STREET\, HINES CREEK\, AB\, T0H 2A0\, Canada
ORGANIZER;CN="Hines Creek Municipal Library":MAILTO:librarian@hinescreeklibrary.ab.ca
END:VEVENT
BEGIN:VEVENT
DTSTART;VALUE=DATE:20221014
DTEND;VALUE=DATE:20221015
DTSTAMP:20260422T043754
CREATED:20221013T192447Z
LAST-MODIFIED:20221013T192447Z
UID:4528-1665705600-1665791999@hinescreek.com
SUMMARY:RV Dump Station Closure
DESCRIPTION:
URL:https://hinescreek.com/event/rv-dump-station-closure/
LOCATION:Municipal Building\, 212 10TH STREET\, HINES CREEK\, AB\, T0H 2A0\, Canada
END:VEVENT
BEGIN:VEVENT
DTSTART;TZID=America/Edmonton:20221012T130000
DTEND;TZID=America/Edmonton:20221012T130000
DTSTAMP:20260422T043754
CREATED:20220914T221519Z
LAST-MODIFIED:20220914T221519Z
UID:4410-1665579600-1665579600@hinescreek.com
SUMMARY:Arts and Crafts Open House
DESCRIPTION:
URL:https://hinescreek.com/event/arts-and-crafts-open-house-4/
LOCATION:AB
END:VEVENT
BEGIN:VEVENT
DTSTART;TZID=America/Edmonton:20221011T090000
DTEND;TZID=America/Edmonton:20221011T130000
DTSTAMP:20260422T043754
CREATED:20220914T191015Z
LAST-MODIFIED:20220914T191015Z
UID:4388-1665478800-1665493200@hinescreek.com
SUMMARY:Regular Council Meeting
DESCRIPTION:
URL:https://hinescreek.com/event/regular-council-meeting-6/
LOCATION:Municipal Building\, 212 10TH STREET\, HINES CREEK\, AB\, T0H 2A0\, Canada
END:VEVENT
BEGIN:VEVENT
DTSTART;TZID=America/Edmonton:20221006T083000
DTEND;TZID=America/Edmonton:20221007T163000
DTSTAMP:20260422T043754
CREATED:20220913T222515Z
LAST-MODIFIED:20220913T222515Z
UID:4345-1665045000-1665160200@hinescreek.com
SUMMARY:First Aid CPR/AED Level C
DESCRIPTION:
URL:https://hinescreek.com/event/first-aid-cpr-aed-level-c/
LOCATION:AB
END:VEVENT
BEGIN:VEVENT
DTSTART;TZID=America/Edmonton:20221005T130000
DTEND;TZID=America/Edmonton:20221005T130000
DTSTAMP:20260422T043754
CREATED:20220914T221519Z
LAST-MODIFIED:20220914T221519Z
UID:4409-1664974800-1664974800@hinescreek.com
SUMMARY:Arts and Crafts Open House
DESCRIPTION:
URL:https://hinescreek.com/event/arts-and-crafts-open-house-3/
LOCATION:AB
END:VEVENT
BEGIN:VEVENT
DTSTART;TZID=America/Edmonton:20221003T100000
DTEND;TZID=America/Edmonton:20221003T110000
DTSTAMP:20260422T043754
CREATED:20220921T221138Z
LAST-MODIFIED:20220921T221138Z
UID:4479-1664791200-1664794800@hinescreek.com
SUMMARY:Moms & Tots
DESCRIPTION:
URL:https://hinescreek.com/event/moms-tots-2/
LOCATION:Hines Creek Municipal Library\, 212 10TH STREET\, HINES CREEK\, AB\, T0H 2A0\, Canada
ORGANIZER;CN="Hines Creek Municipal Library":MAILTO:librarian@hinescreeklibrary.ab.ca
END:VEVENT
BEGIN:VEVENT
DTSTART;TZID=America/Edmonton:20221001T100000
DTEND;TZID=America/Edmonton:20221001T140000
DTSTAMP:20260422T043754
CREATED:20220913T222407Z
LAST-MODIFIED:20220914T171512Z
UID:4343-1664618400-1664632800@hinescreek.com
SUMMARY:Starting a Business - What's First?
DESCRIPTION:
URL:https://hinescreek.com/event/starting-a-business-whats-first-from-northwest-peace-community-adult-learning-council/
LOCATION:AB
END:VEVENT
BEGIN:VEVENT
DTSTART;TZID=America/Edmonton:20220928T190000
DTEND;TZID=America/Edmonton:20220928T210000
DTSTAMP:20260422T043754
CREATED:20220913T221910Z
LAST-MODIFIED:20220914T171523Z
UID:4335-1664391600-1664398800@hinescreek.com
SUMMARY:Learn Computer Basics
DESCRIPTION:
URL:https://hinescreek.com/event/learn-computer-basics-from-northwest-peace-community-adult-learning-council-3/
LOCATION:AB
END:VEVENT
BEGIN:VEVENT
DTSTART;TZID=America/Edmonton:20220928T010000
DTEND;TZID=America/Edmonton:20220928T010000
DTSTAMP:20260422T043754
CREATED:20220915T192143Z
LAST-MODIFIED:20220915T192143Z
UID:4431-1664326800-1664326800@hinescreek.com
SUMMARY:Arts & Crafts Open House
DESCRIPTION:
URL:https://hinescreek.com/event/arts-crafts-open-house/
LOCATION:Hines Creek Arts & Crafts Club 712 8th Street\, 712 8th Street
END:VEVENT
BEGIN:VEVENT
DTSTART;TZID=America/Edmonton:20220927T090000
DTEND;TZID=America/Edmonton:20220927T130000
DTSTAMP:20260422T043754
CREATED:20220914T191015Z
LAST-MODIFIED:20220914T191015Z
UID:4387-1664269200-1664283600@hinescreek.com
SUMMARY:Regular Council Meeting
DESCRIPTION:
URL:https://hinescreek.com/event/regular-council-meeting-5/
LOCATION:Municipal Building\, 212 10TH STREET\, HINES CREEK\, AB\, T0H 2A0\, Canada
END:VEVENT
END:VCALENDAR