BEGIN:VCALENDAR
VERSION:2.0
PRODID:-//Village of Hines Creek - ECPv6.10.2//NONSGML v1.0//EN
CALSCALE:GREGORIAN
METHOD:PUBLISH
X-WR-CALNAME:Village of Hines Creek
X-ORIGINAL-URL:https://hinescreek.com
X-WR-CALDESC:Events for Village of Hines Creek
REFRESH-INTERVAL;VALUE=DURATION:PT1H
X-Robots-Tag:noindex
X-PUBLISHED-TTL:PT1H
BEGIN:VTIMEZONE
TZID:America/Edmonton
BEGIN:DAYLIGHT
TZOFFSETFROM:-0700
TZOFFSETTO:-0600
TZNAME:MDT
DTSTART:20220313T090000
END:DAYLIGHT
BEGIN:STANDARD
TZOFFSETFROM:-0600
TZOFFSETTO:-0700
TZNAME:MST
DTSTART:20221106T080000
END:STANDARD
END:VTIMEZONE
BEGIN:VEVENT
DTSTART;TZID=America/Edmonton:20221005T130000
DTEND;TZID=America/Edmonton:20221005T130000
DTSTAMP:20260422T073719
CREATED:20220914T221519Z
LAST-MODIFIED:20220914T221519Z
UID:4409-1664974800-1664974800@hinescreek.com
SUMMARY:Arts and Crafts Open House
DESCRIPTION:
URL:https://hinescreek.com/event/arts-and-crafts-open-house-3/
END:VEVENT
BEGIN:VEVENT
DTSTART;TZID=America/Edmonton:20221003T100000
DTEND;TZID=America/Edmonton:20221003T110000
DTSTAMP:20260422T073719
CREATED:20220921T221138Z
LAST-MODIFIED:20220921T221138Z
UID:4479-1664791200-1664794800@hinescreek.com
SUMMARY:Moms & Tots
DESCRIPTION:
URL:https://hinescreek.com/event/moms-tots-2/
LOCATION:Hines Creek Municipal Library\, 212 10TH STREET\, HINES CREEK\, AB\, T0H 2A0\, Canada
ORGANIZER;CN="Hines Creek Municipal Library":MAILTO:librarian@hinescreeklibrary.ab.ca
END:VEVENT
BEGIN:VEVENT
DTSTART;TZID=America/Edmonton:20221001T100000
DTEND;TZID=America/Edmonton:20221001T140000
DTSTAMP:20260422T073719
CREATED:20220913T222407Z
LAST-MODIFIED:20220914T171512Z
UID:4343-1664618400-1664632800@hinescreek.com
SUMMARY:Starting a Business - What's First?
DESCRIPTION:
URL:https://hinescreek.com/event/starting-a-business-whats-first-from-northwest-peace-community-adult-learning-council/
END:VEVENT
BEGIN:VEVENT
DTSTART;TZID=America/Edmonton:20220928T190000
DTEND;TZID=America/Edmonton:20220928T210000
DTSTAMP:20260422T073719
CREATED:20220913T221910Z
LAST-MODIFIED:20220914T171523Z
UID:4335-1664391600-1664398800@hinescreek.com
SUMMARY:Learn Computer Basics
DESCRIPTION:
URL:https://hinescreek.com/event/learn-computer-basics-from-northwest-peace-community-adult-learning-council-3/
END:VEVENT
BEGIN:VEVENT
DTSTART;TZID=America/Edmonton:20220928T010000
DTEND;TZID=America/Edmonton:20220928T010000
DTSTAMP:20260422T073719
CREATED:20220915T192143Z
LAST-MODIFIED:20220915T192143Z
UID:4431-1664326800-1664326800@hinescreek.com
SUMMARY:Arts & Crafts Open House
DESCRIPTION:
URL:https://hinescreek.com/event/arts-crafts-open-house/
LOCATION:Hines Creek Arts & Crafts Club 712 8th Street\, 712 8th Street
END:VEVENT
BEGIN:VEVENT
DTSTART;TZID=America/Edmonton:20220927T090000
DTEND;TZID=America/Edmonton:20220927T130000
DTSTAMP:20260422T073719
CREATED:20220914T191015Z
LAST-MODIFIED:20220914T191015Z
UID:4387-1664269200-1664283600@hinescreek.com
SUMMARY:Regular Council Meeting
DESCRIPTION:
URL:https://hinescreek.com/event/regular-council-meeting-5/
LOCATION:Municipal Building\, 212 10TH STREET\, HINES CREEK\, AB\, T0H 2A0\, Canada
END:VEVENT
BEGIN:VEVENT
DTSTART;TZID=America/Edmonton:20220926T100000
DTEND;TZID=America/Edmonton:20220926T110000
DTSTAMP:20260422T073719
CREATED:20220921T221138Z
LAST-MODIFIED:20220921T221138Z
UID:4478-1664186400-1664190000@hinescreek.com
SUMMARY:Moms & Tots
DESCRIPTION:
URL:https://hinescreek.com/event/moms-tots/
LOCATION:Hines Creek Municipal Library\, 212 10TH STREET\, HINES CREEK\, AB\, T0H 2A0\, Canada
ORGANIZER;CN="Hines Creek Municipal Library":MAILTO:librarian@hinescreeklibrary.ab.ca
END:VEVENT
BEGIN:VEVENT
DTSTART;TZID=America/Edmonton:20220924T090000
DTEND;TZID=America/Edmonton:20220924T160000
DTSTAMP:20260422T073719
CREATED:20220913T222239Z
LAST-MODIFIED:20220914T171531Z
UID:4341-1664010000-1664035200@hinescreek.com
SUMMARY:Digital Photography
DESCRIPTION:
URL:https://hinescreek.com/event/digital-photography-from-northwest-peace-community-adult-learning-council/
END:VEVENT
BEGIN:VEVENT
DTSTART;TZID=America/Edmonton:20220923T160000
DTEND;TZID=America/Edmonton:20220923T180000
DTSTAMP:20260422T073719
CREATED:20221018T173737Z
LAST-MODIFIED:20221018T173737Z
UID:4557-1663948800-1663956000@hinescreek.com
SUMMARY:Free Public & Shinny Skate
DESCRIPTION:
URL:https://hinescreek.com/event/free-public-shinny-skate/
END:VEVENT
BEGIN:VEVENT
DTSTART;TZID=America/Edmonton:20220921T190000
DTEND;TZID=America/Edmonton:20220921T210000
DTSTAMP:20260422T073719
CREATED:20220913T221802Z
LAST-MODIFIED:20220914T171540Z
UID:4333-1663786800-1663794000@hinescreek.com
SUMMARY:Learn Computer Basics
DESCRIPTION:
URL:https://hinescreek.com/event/learn-computer-basics-from-northwest-peace-community-adult-learning-council-2/
END:VEVENT
BEGIN:VEVENT
DTSTART;TZID=America/Edmonton:20220921T130000
DTEND;TZID=America/Edmonton:20220921T130000
DTSTAMP:20260422T073719
CREATED:20220914T221519Z
LAST-MODIFIED:20220914T221519Z
UID:4407-1663765200-1663765200@hinescreek.com
SUMMARY:Arts and Crafts Open House
DESCRIPTION:
URL:https://hinescreek.com/event/arts-and-crafts-open-house/
END:VEVENT
BEGIN:VEVENT
DTSTART;TZID=America/Edmonton:20220920T190000
DTEND;TZID=America/Edmonton:20220920T190000
DTSTAMP:20260422T073719
CREATED:20220914T221507Z
LAST-MODIFIED:20220914T221507Z
UID:4403-1663700400-1663700400@hinescreek.com
SUMMARY:Hines Creek and Disctrict Ag Society Meeting
DESCRIPTION:
URL:https://hinescreek.com/event/hines-creek-and-disctrict-ag-society-meeting/
END:VEVENT
BEGIN:VEVENT
DTSTART;TZID=America/Edmonton:20220919T080000
DTEND;TZID=America/Edmonton:20220919T160000
DTSTAMP:20260422T073719
CREATED:20220913T222135Z
LAST-MODIFIED:20220914T171549Z
UID:4339-1663574400-1663603200@hinescreek.com
SUMMARY:H2S Alive
DESCRIPTION:
URL:https://hinescreek.com/event/h2s-alive-from-northwest-peace-community-adult-learning-council/
END:VEVENT
BEGIN:VEVENT
DTSTART;TZID=America/Edmonton:20220916T160000
DTEND;TZID=America/Edmonton:20220916T183000
DTSTAMP:20260422T073719
CREATED:20220913T222024Z
LAST-MODIFIED:20220913T222024Z
UID:4337-1663344000-1663353000@hinescreek.com
SUMMARY:Northwest Peace Community Adult Learning Council Open House
DESCRIPTION:
URL:https://hinescreek.com/event/northwest-peace-community-adult-learning-council-open-house/
END:VEVENT
BEGIN:VEVENT
DTSTART;TZID=America/Edmonton:20220914T190000
DTEND;TZID=America/Edmonton:20220914T210000
DTSTAMP:20260422T073719
CREATED:20220913T221516Z
LAST-MODIFIED:20220913T223013Z
UID:4320-1663182000-1663189200@hinescreek.com
SUMMARY:Learn Computer Basics
DESCRIPTION:
URL:https://hinescreek.com/event/learn-computer-basics-from-northwest-peace-community-adult-learning-council/
END:VEVENT
BEGIN:VEVENT
DTSTART;TZID=America/Edmonton:20220908T170000
DTEND;TZID=America/Edmonton:20220908T190000
DTSTAMP:20260422T073719
CREATED:20220907T161540Z
LAST-MODIFIED:20220907T161540Z
UID:4305-1662656400-1662663600@hinescreek.com
SUMMARY:Pond Hockey Registration
DESCRIPTION:
URL:https://hinescreek.com/event/pond-hockey-registration/
LOCATION:Dave Shaw Memorial Complex\, 712 8th Street\, Hines Creek
END:VEVENT
BEGIN:VEVENT
DTSTART;VALUE=DATE:20220903
DTEND;VALUE=DATE:20220905
DTSTAMP:20260422T073719
CREATED:20220817T170755Z
LAST-MODIFIED:20220817T170755Z
UID:4287-1662163200-1662335999@hinescreek.com
SUMMARY:George Lake Music Festival
DESCRIPTION:
URL:https://hinescreek.com/event/george-lake-music-festival-2/
END:VEVENT
BEGIN:VEVENT
DTSTART;VALUE=DATE:20220830
DTEND;VALUE=DATE:20220831
DTSTAMP:20260422T073719
CREATED:20220817T165516Z
LAST-MODIFIED:20220817T165516Z
UID:4284-1661817600-1661903999@hinescreek.com
SUMMARY:First Day Back to School
DESCRIPTION:School is back in\, please slow down and be vigilant-especially in school zones.
URL:https://hinescreek.com/event/first-day-back-to-school/
END:VEVENT
BEGIN:VEVENT
DTSTART;TZID=America/Edmonton:20220823T090000
DTEND;TZID=America/Edmonton:20220823T090000
DTSTAMP:20260422T073719
CREATED:20220620T193637Z
LAST-MODIFIED:20220620T193637Z
UID:4226-1661245200-1661245200@hinescreek.com
SUMMARY:Council Meeting
DESCRIPTION:
URL:https://hinescreek.com/event/council-meeting-23/
LOCATION:Municipal Building\, 212 10TH STREET\, HINES CREEK\, AB\, T0H 2A0\, Canada
END:VEVENT
BEGIN:VEVENT
DTSTART;TZID=America/Edmonton:20220809T090000
DTEND;TZID=America/Edmonton:20220809T090000
DTSTAMP:20260422T073719
CREATED:20220620T193506Z
LAST-MODIFIED:20220620T193506Z
UID:4224-1660035600-1660035600@hinescreek.com
SUMMARY:Council Meeting
DESCRIPTION:
URL:https://hinescreek.com/event/council-meeting-22/
LOCATION:Municipal Building\, 212 10TH STREET\, HINES CREEK\, AB\, T0H 2A0\, Canada
END:VEVENT
BEGIN:VEVENT
DTSTART;VALUE=DATE:20220801
DTEND;VALUE=DATE:20220802
DTSTAMP:20260422T073719
CREATED:20220620T193433Z
LAST-MODIFIED:20220620T193701Z
UID:4222-1659312000-1659398399@hinescreek.com
SUMMARY:Civic Holiday - Village Closed
DESCRIPTION:
URL:https://hinescreek.com/event/civic-holiday-village-closed/
END:VEVENT
BEGIN:VEVENT
DTSTART;VALUE=DATE:20220729
DTEND;VALUE=DATE:20220730
DTSTAMP:20260422T073719
CREATED:20220620T193004Z
LAST-MODIFIED:20220711T215531Z
UID:4220-1659052800-1659139199@hinescreek.com
SUMMARY:Taxes Due
DESCRIPTION:
URL:https://hinescreek.com/event/taxes-due/
LOCATION:Municipal Building\, 212 10TH STREET\, HINES CREEK\, AB\, T0H 2A0\, Canada
END:VEVENT
BEGIN:VEVENT
DTSTART;TZID=America/Edmonton:20220726T090000
DTEND;TZID=America/Edmonton:20220726T090000
DTSTAMP:20260422T073719
CREATED:20220620T191858Z
LAST-MODIFIED:20220620T191858Z
UID:4213-1658826000-1658826000@hinescreek.com
SUMMARY:Council Meeting
DESCRIPTION:
URL:https://hinescreek.com/event/council-meeting-21/
LOCATION:Municipal Building\, 212 10TH STREET\, HINES CREEK\, AB\, T0H 2A0\, Canada
END:VEVENT
BEGIN:VEVENT
DTSTART;TZID=America/Edmonton:20220724T150000
DTEND;TZID=America/Edmonton:20220724T170000
DTSTAMP:20260422T073719
CREATED:20220711T215953Z
LAST-MODIFIED:20220711T215953Z
UID:4240-1658674800-1658682000@hinescreek.com
SUMMARY:The Great Benjamin Circus
DESCRIPTION:The Great Benjamin Circus is coming to town on July 24\, 2022 for one show\, at 3 o’clock. \nClick here for details and online ticket sales!
URL:https://hinescreek.com/event/the-great-benjamin-circus/
LOCATION:Dave Shaw Memorial Complex\, 712 8th Street\, Hines Creek
END:VEVENT
BEGIN:VEVENT
DTSTART;TZID=America/Edmonton:20220712T090000
DTEND;TZID=America/Edmonton:20220712T090000
DTSTAMP:20260422T073719
CREATED:20220620T191821Z
LAST-MODIFIED:20220620T191821Z
UID:4211-1657616400-1657616400@hinescreek.com
SUMMARY:Council Meeting
DESCRIPTION:
URL:https://hinescreek.com/event/council-meeting-20/
LOCATION:Municipal Building\, 212 10TH STREET\, HINES CREEK\, AB\, T0H 2A0\, Canada
END:VEVENT
BEGIN:VEVENT
DTSTART;VALUE=DATE:20220701
DTEND;VALUE=DATE:20220702
DTSTAMP:20260422T073719
CREATED:20220620T192010Z
LAST-MODIFIED:20220620T192042Z
UID:4216-1656633600-1656719999@hinescreek.com
SUMMARY:Canada Day - Village Closed
DESCRIPTION:
URL:https://hinescreek.com/event/canada-day-village-closed/
LOCATION:Municipal Building\, 212 10TH STREET\, HINES CREEK\, AB\, T0H 2A0\, Canada
END:VEVENT
BEGIN:VEVENT
DTSTART;TZID=America/Edmonton:20220628T090000
DTEND;TZID=America/Edmonton:20220628T090000
DTSTAMP:20260422T073719
CREATED:20220620T191745Z
LAST-MODIFIED:20220620T191745Z
UID:4209-1656406800-1656406800@hinescreek.com
SUMMARY:Council Meeting
DESCRIPTION:
URL:https://hinescreek.com/event/council-meeting-19/
LOCATION:Municipal Building\, 212 10TH STREET\, HINES CREEK\, AB\, T0H 2A0\, Canada
END:VEVENT
BEGIN:VEVENT
DTSTART;TZID=America/Edmonton:20220614T090000
DTEND;TZID=America/Edmonton:20220614T090000
DTSTAMP:20260422T073719
CREATED:20220620T191715Z
LAST-MODIFIED:20220620T191715Z
UID:4207-1655197200-1655197200@hinescreek.com
SUMMARY:Council Meeting
DESCRIPTION:
URL:https://hinescreek.com/event/council-meeting-18/
LOCATION:Municipal Building\, 212 10TH STREET\, HINES CREEK\, AB\, T0H 2A0\, Canada
END:VEVENT
BEGIN:VEVENT
DTSTART;TZID=America/Edmonton:20220611T110000
DTEND;TZID=America/Edmonton:20220611T160000
DTSTAMP:20260422T073719
CREATED:20220413T173817Z
LAST-MODIFIED:20220427T174524Z
UID:4102-1654945200-1654963200@hinescreek.com
SUMMARY:Hines Creek Community BBQ
DESCRIPTION:
URL:https://hinescreek.com/event/hines-creek-community-bbq/
LOCATION:2 Avenue\, 212 10 Street\, Hines Creek\, Alberta\, T0H 2A0\, Canada
END:VEVENT
BEGIN:VEVENT
DTSTART;TZID=America/Edmonton:20220527T193000
DTEND;TZID=America/Edmonton:20220527T193000
DTSTAMP:20260422T073719
CREATED:20220308T184800Z
LAST-MODIFIED:20220308T184800Z
UID:4002-1653679800-1653679800@hinescreek.com
SUMMARY:Drop-In Volleyball
DESCRIPTION:
URL:https://hinescreek.com/event/drop-in-volleyball-11/
LOCATION:Hines Creek Composite School\, 331 Government Road West\, Hines Creek
END:VEVENT
END:VCALENDAR