BEGIN:VCALENDAR
VERSION:2.0
PRODID:-//Village of Hines Creek - ECPv6.10.2//NONSGML v1.0//EN
CALSCALE:GREGORIAN
METHOD:PUBLISH
X-WR-CALNAME:Village of Hines Creek
X-ORIGINAL-URL:https://hinescreek.com
X-WR-CALDESC:Events for Village of Hines Creek
REFRESH-INTERVAL;VALUE=DURATION:PT1H
X-Robots-Tag:noindex
X-PUBLISHED-TTL:PT1H
BEGIN:VTIMEZONE
TZID:America/Edmonton
BEGIN:DAYLIGHT
TZOFFSETFROM:-0700
TZOFFSETTO:-0600
TZNAME:MDT
DTSTART:20210314T090000
END:DAYLIGHT
BEGIN:STANDARD
TZOFFSETFROM:-0600
TZOFFSETTO:-0700
TZNAME:MST
DTSTART:20211107T080000
END:STANDARD
BEGIN:DAYLIGHT
TZOFFSETFROM:-0700
TZOFFSETTO:-0600
TZNAME:MDT
DTSTART:20220313T090000
END:DAYLIGHT
BEGIN:STANDARD
TZOFFSETFROM:-0600
TZOFFSETTO:-0700
TZNAME:MST
DTSTART:20221106T080000
END:STANDARD
END:VTIMEZONE
BEGIN:VEVENT
DTSTART;TZID=America/Edmonton:20220414T110000
DTEND;TZID=America/Edmonton:20220414T110000
DTSTAMP:20260422T134130
CREATED:20220407T165335Z
LAST-MODIFIED:20220407T165335Z
UID:4086-1649934000-1649934000@hinescreek.com
SUMMARY:Teddy Bear Picnic
DESCRIPTION:
URL:https://hinescreek.com/event/teddy-bear-picnic/
LOCATION:Hines Creek Municipal Library\, 212 10TH STREET\, HINES CREEK\, AB\, T0H 2A0\, Canada
ORGANIZER;CN="Hines Creek Municipal Library":MAILTO:librarian@hinescreeklibrary.ab.ca
END:VEVENT
BEGIN:VEVENT
DTSTART;TZID=America/Edmonton:20220413T130000
DTEND;TZID=America/Edmonton:20220413T130000
DTSTAMP:20260422T134130
CREATED:20220322T202227Z
LAST-MODIFIED:20220322T202227Z
UID:4059-1649854800-1649854800@hinescreek.com
SUMMARY:Hines Creek Arts & Crafts Open House
DESCRIPTION:Every Wednesday from 1-4 pm.  Join us for coffee and take part in our craft activities\, or bring what you are working on.  1 Year Membership is $20.00.  For more infor call Bunny 780-835-9586 or Olive 780-494-2255
URL:https://hinescreek.com/event/hines-creek-arts-crafts-open-house-4/
END:VEVENT
BEGIN:VEVENT
DTSTART;TZID=America/Edmonton:20220412T090000
DTEND;TZID=America/Edmonton:20220412T090000
DTSTAMP:20260422T134130
CREATED:20220309T184730Z
LAST-MODIFIED:20220309T184730Z
UID:4031-1649754000-1649754000@hinescreek.com
SUMMARY:Council Meeting Cancelled
DESCRIPTION:
URL:https://hinescreek.com/event/council-meeting-cancelled/
LOCATION:Municipal Building\, 212 10TH STREET\, HINES CREEK\, AB\, T0H 2A0\, Canada
END:VEVENT
BEGIN:VEVENT
DTSTART;TZID=America/Edmonton:20220408T193000
DTEND;TZID=America/Edmonton:20220408T193000
DTSTAMP:20260422T134130
CREATED:20220308T184120Z
LAST-MODIFIED:20220308T184120Z
UID:3989-1649446200-1649446200@hinescreek.com
SUMMARY:Drop-In Volleyball
DESCRIPTION:
URL:https://hinescreek.com/event/drop-in-volleyball-5/
LOCATION:Hines Creek Composite School\, 331 Government Road West\, Hines Creek
END:VEVENT
BEGIN:VEVENT
DTSTART;TZID=America/Edmonton:20220406T130000
DTEND;TZID=America/Edmonton:20220406T130000
DTSTAMP:20260422T134130
CREATED:20220322T202227Z
LAST-MODIFIED:20220322T202227Z
UID:4058-1649250000-1649250000@hinescreek.com
SUMMARY:Hines Creek Arts & Crafts Open House
DESCRIPTION:Every Wednesday from 1-4 pm.  Join us for coffee and take part in our craft activities\, or bring what you are working on.  1 Year Membership is $20.00.  For more infor call Bunny 780-835-9586 or Olive 780-494-2255
URL:https://hinescreek.com/event/hines-creek-arts-crafts-open-house-3/
END:VEVENT
BEGIN:VEVENT
DTSTART;TZID=America/Edmonton:20220405T190000
DTEND;TZID=America/Edmonton:20220405T190000
DTSTAMP:20260422T134130
CREATED:20220309T184648Z
LAST-MODIFIED:20220309T184648Z
UID:4028-1649185200-1649185200@hinescreek.com
SUMMARY:Council Meeting Rescheduled
DESCRIPTION:
URL:https://hinescreek.com/event/council-meeting-rescheduled/
LOCATION:Municipal Building\, 212 10TH STREET\, HINES CREEK\, AB\, T0H 2A0\, Canada
END:VEVENT
BEGIN:VEVENT
DTSTART;TZID=America/Edmonton:20220401T193000
DTEND;TZID=America/Edmonton:20220401T193000
DTSTAMP:20260422T134130
CREATED:20220308T184025Z
LAST-MODIFIED:20220308T184025Z
UID:3987-1648841400-1648841400@hinescreek.com
SUMMARY:Drop-In Volleyball
DESCRIPTION:
URL:https://hinescreek.com/event/drop-in-volleyball-4/
LOCATION:Hines Creek Composite School\, 331 Government Road West\, Hines Creek
END:VEVENT
BEGIN:VEVENT
DTSTART;TZID=America/Edmonton:20220330T130000
DTEND;TZID=America/Edmonton:20220330T130000
DTSTAMP:20260422T134130
CREATED:20220322T202227Z
LAST-MODIFIED:20220322T202227Z
UID:4057-1648645200-1648645200@hinescreek.com
SUMMARY:Hines Creek Arts & Crafts Open House
DESCRIPTION:Every Wednesday from 1-4 pm.  Join us for coffee and take part in our craft activities\, or bring what you are working on.  1 Year Membership is $20.00.  For more infor call Bunny 780-835-9586 or Olive 780-494-2255
URL:https://hinescreek.com/event/hines-creek-arts-crafts-open-house-2/
END:VEVENT
BEGIN:VEVENT
DTSTART;TZID=America/Edmonton:20220325T193000
DTEND;TZID=America/Edmonton:20220325T193000
DTSTAMP:20260422T134130
CREATED:20220308T183923Z
LAST-MODIFIED:20220308T183923Z
UID:3985-1648236600-1648236600@hinescreek.com
SUMMARY:Drop-In Volleyball
DESCRIPTION:
URL:https://hinescreek.com/event/drop-in-volleyball-3/
LOCATION:Hines Creek Composite School\, 331 Government Road West\, Hines Creek
END:VEVENT
BEGIN:VEVENT
DTSTART;TZID=America/Edmonton:20220323T130000
DTEND;TZID=America/Edmonton:20220323T160000
DTSTAMP:20260422T134130
CREATED:20220322T201207Z
LAST-MODIFIED:20220322T201207Z
UID:4050-1648040400-1648051200@hinescreek.com
SUMMARY:Hines Creek Arts & Crafts Open House
DESCRIPTION:Every Wednesday from 1-4 p.m.\nJoin us for coffee and take part in our craft activities\, or bring what you are working on. \n1 Year Membership -$20.00\nFor more info call Bunny 780-835-9586 or Olive 780-494-2255
URL:https://hinescreek.com/event/hines-creek-arts-crafts-open-house/
LOCATION:Hines Creek Arts & Crafts Club\, 712 8th Street
END:VEVENT
BEGIN:VEVENT
DTSTART;TZID=America/Edmonton:20220322T090000
DTEND;TZID=America/Edmonton:20220322T090000
DTSTAMP:20260422T134130
CREATED:20220127T201517Z
LAST-MODIFIED:20220127T201517Z
UID:3912-1647939600-1647939600@hinescreek.com
SUMMARY:Council Meeting
DESCRIPTION:
URL:https://hinescreek.com/event/council-meeting-14/
LOCATION:Municipal Building\, 212 10TH STREET\, HINES CREEK\, AB\, T0H 2A0\, Canada
END:VEVENT
BEGIN:VEVENT
DTSTART;TZID=America/Edmonton:20220320T160000
DTEND;TZID=America/Edmonton:20220320T180000
DTSTAMP:20260422T134130
CREATED:20220308T180822Z
LAST-MODIFIED:20220308T184923Z
UID:3971-1647792000-1647799200@hinescreek.com
SUMMARY:Free Skating
DESCRIPTION:
URL:https://hinescreek.com/event/free-skating-2/
LOCATION:Dave Shaw Memorial Complex\, 712 8th Street\, Hines Creek
END:VEVENT
BEGIN:VEVENT
DTSTART;TZID=America/Edmonton:20220318T193000
DTEND;TZID=America/Edmonton:20220318T193000
DTSTAMP:20260422T134130
CREATED:20220308T183800Z
LAST-MODIFIED:20220308T183800Z
UID:3982-1647631800-1647631800@hinescreek.com
SUMMARY:Drop-In Volleyball
DESCRIPTION:
URL:https://hinescreek.com/event/drop-in-volleyball-2/
LOCATION:Hines Creek Composite School\, 331 Government Road West\, Hines Creek
END:VEVENT
BEGIN:VEVENT
DTSTART;TZID=America/Edmonton:20220313T160000
DTEND;TZID=America/Edmonton:20220313T180000
DTSTAMP:20260422T134130
CREATED:20220308T180743Z
LAST-MODIFIED:20220308T184944Z
UID:3969-1647187200-1647194400@hinescreek.com
SUMMARY:Free Skating
DESCRIPTION:
URL:https://hinescreek.com/event/free-skating/
LOCATION:Dave Shaw Memorial Complex\, 712 8th Street\, Hines Creek
END:VEVENT
BEGIN:VEVENT
DTSTART;TZID=America/Edmonton:20220311T193000
DTEND;TZID=America/Edmonton:20220311T193000
DTSTAMP:20260422T134130
CREATED:20220308T183441Z
LAST-MODIFIED:20220308T183441Z
UID:3973-1647027000-1647027000@hinescreek.com
SUMMARY:Drop-In Volleyball
DESCRIPTION:
URL:https://hinescreek.com/event/drop-in-volleyball/
LOCATION:Hines Creek Composite School\, 331 Government Road West\, Hines Creek
END:VEVENT
BEGIN:VEVENT
DTSTART;TZID=America/Edmonton:20220308T090000
DTEND;TZID=America/Edmonton:20220308T090000
DTSTAMP:20260422T134130
CREATED:20220127T201433Z
LAST-MODIFIED:20220127T201433Z
UID:3909-1646730000-1646730000@hinescreek.com
SUMMARY:Council Meeting
DESCRIPTION:
URL:https://hinescreek.com/event/council-meeting-13/
LOCATION:Municipal Building\, 212 10TH STREET\, HINES CREEK\, AB\, T0H 2A0\, Canada
END:VEVENT
BEGIN:VEVENT
DTSTART;TZID=America/Edmonton:20220301T083000
DTEND;TZID=America/Edmonton:20220301T083000
DTSTAMP:20260422T134130
CREATED:20220228T204113Z
LAST-MODIFIED:20220228T204113Z
UID:3963-1646123400-1646123400@hinescreek.com
SUMMARY:Special Meeting of Council
DESCRIPTION:
URL:https://hinescreek.com/event/special-meeting-of-council/
LOCATION:Municipal Building\, 212 10TH STREET\, HINES CREEK\, AB\, T0H 2A0\, Canada
END:VEVENT
BEGIN:VEVENT
DTSTART;TZID=America/Edmonton:20220222T090000
DTEND;TZID=America/Edmonton:20220222T090000
DTSTAMP:20260422T134130
CREATED:20220113T230705Z
LAST-MODIFIED:20220131T214745Z
UID:3877-1645520400-1645520400@hinescreek.com
SUMMARY:Regular Council Meeting
DESCRIPTION:
URL:https://hinescreek.com/event/regular-council-meeting-4/
LOCATION:Municipal Building\, 212 10TH STREET\, HINES CREEK\, AB\, T0H 2A0\, Canada
END:VEVENT
BEGIN:VEVENT
DTSTART;TZID=America/Edmonton:20220221T130000
DTEND;TZID=America/Edmonton:20220221T160000
DTSTAMP:20260422T134130
CREATED:20220214T182523Z
LAST-MODIFIED:20220214T182551Z
UID:3939-1645448400-1645459200@hinescreek.com
SUMMARY:FAMILY DAY PUBLIC SKATE & DROP-IN SHINNY
DESCRIPTION:
URL:https://hinescreek.com/event/family-day-public-skate-drop-in-shinny/
LOCATION:Dave Shaw Memorial Complex\, 712 8th Street\, Hines Creek
END:VEVENT
BEGIN:VEVENT
DTSTART;VALUE=DATE:20220221
DTEND;VALUE=DATE:20220222
DTSTAMP:20260422T134130
CREATED:20220131T215019Z
LAST-MODIFIED:20220131T215019Z
UID:3920-1645401600-1645487999@hinescreek.com
SUMMARY:Village Closed - Family Day
DESCRIPTION:
URL:https://hinescreek.com/event/village-closed-family-day/
END:VEVENT
BEGIN:VEVENT
DTSTART;TZID=America/Edmonton:20220217T170000
DTEND;TZID=America/Edmonton:20220217T190000
DTSTAMP:20260422T134130
CREATED:20220127T201140Z
LAST-MODIFIED:20220127T201140Z
UID:3905-1645117200-1645124400@hinescreek.com
SUMMARY:Capital Budget Meeting
DESCRIPTION:
URL:https://hinescreek.com/event/capital-budget-meeting/
LOCATION:Municipal Building\, 212 10TH STREET\, HINES CREEK\, AB\, T0H 2A0\, Canada
END:VEVENT
BEGIN:VEVENT
DTSTART;TZID=America/Edmonton:20220208T090000
DTEND;TZID=America/Edmonton:20220208T090000
DTSTAMP:20260422T134130
CREATED:20220113T230627Z
LAST-MODIFIED:20220131T214725Z
UID:3875-1644310800-1644310800@hinescreek.com
SUMMARY:Regular Council Meeting
DESCRIPTION:
URL:https://hinescreek.com/event/regular-council-meeting-3/
LOCATION:Municipal Building\, 212 10TH STREET\, HINES CREEK\, AB\, T0H 2A0\, Canada
END:VEVENT
BEGIN:VEVENT
DTSTART;TZID=America/Edmonton:20220207T190000
DTEND;TZID=America/Edmonton:20220207T190000
DTSTAMP:20260422T134130
CREATED:20220127T201624Z
LAST-MODIFIED:20220203T205339Z
UID:3914-1644260400-1644260400@hinescreek.com
SUMMARY:Joint Meeting with Clear Hills County & The Village of Hines Creek
DESCRIPTION:
URL:https://hinescreek.com/event/joint-meeting-with-clear-hills-county-the-village-of-hines-creek/
LOCATION:Dave Shaw Memorial Complex\, 712 8th Street\, Hines Creek
END:VEVENT
BEGIN:VEVENT
DTSTART;TZID=America/Edmonton:20220125T090000
DTEND;TZID=America/Edmonton:20220125T090000
DTSTAMP:20260422T134130
CREATED:20220113T230503Z
LAST-MODIFIED:20220113T230503Z
UID:3873-1643101200-1643101200@hinescreek.com
SUMMARY:Regular Council Meeting
DESCRIPTION:
URL:https://hinescreek.com/event/regular-council-meeting-2/
LOCATION:Municipal Building\, 212 10TH STREET\, HINES CREEK\, AB\, T0H 2A0\, Canada
END:VEVENT
BEGIN:VEVENT
DTSTART;TZID=America/Edmonton:20220120T170000
DTEND;TZID=America/Edmonton:20220120T170000
DTSTAMP:20260422T134130
CREATED:20220112T204505Z
LAST-MODIFIED:20220112T204505Z
UID:3867-1642698000-1642698000@hinescreek.com
SUMMARY:Operating & Capital Budget Meeting
DESCRIPTION:
URL:https://hinescreek.com/event/operating-capital-budget-meeting-3/
LOCATION:Municipal Building\, 212 10TH STREET\, HINES CREEK\, AB\, T0H 2A0\, Canada
END:VEVENT
BEGIN:VEVENT
DTSTART;TZID=America/Edmonton:20220111T090000
DTEND;TZID=America/Edmonton:20220111T090000
DTSTAMP:20260422T134130
CREATED:20220113T230418Z
LAST-MODIFIED:20220113T230530Z
UID:3871-1641891600-1641891600@hinescreek.com
SUMMARY:Regular Council Meeting
DESCRIPTION:
URL:https://hinescreek.com/event/regular-council-meeting/
LOCATION:Municipal Building\, 212 10TH STREET\, HINES CREEK\, AB\, T0H 2A0\, Canada
END:VEVENT
BEGIN:VEVENT
DTSTART;VALUE=DATE:20211231
DTEND;VALUE=DATE:20220101
DTSTAMP:20260422T134130
CREATED:20211216T160543Z
LAST-MODIFIED:20211216T160543Z
UID:3824-1640908800-1640995199@hinescreek.com
SUMMARY:Outstanding Taxes Due
DESCRIPTION:
URL:https://hinescreek.com/event/outstanding-taxes-due/
LOCATION:Municipal Building\, 212 10TH STREET\, HINES CREEK\, AB\, T0H 2A0\, Canada
END:VEVENT
BEGIN:VEVENT
DTSTART;TZID=America/Edmonton:20211225T080000
DTEND;TZID=America/Edmonton:20211229T163000
DTSTAMP:20260422T134130
CREATED:20211110T180532Z
LAST-MODIFIED:20211206T184024Z
UID:3755-1640419200-1640795400@hinescreek.com
SUMMARY:Village Office Closed
DESCRIPTION:
URL:https://hinescreek.com/event/village-office-closed/
END:VEVENT
BEGIN:VEVENT
DTSTART;VALUE=DATE:20211224
DTEND;VALUE=DATE:20211225
DTSTAMP:20260422T134130
CREATED:20211110T180312Z
LAST-MODIFIED:20211206T184048Z
UID:3752-1640304000-1640390399@hinescreek.com
SUMMARY:Village Office closes at Noon
DESCRIPTION:
URL:https://hinescreek.com/event/village-office-closes-at-noon/
END:VEVENT
BEGIN:VEVENT
DTSTART;TZID=America/Edmonton:20211217T170000
DTEND;TZID=America/Edmonton:20211217T200000
DTSTAMP:20260422T134130
CREATED:20211203T215034Z
LAST-MODIFIED:20211203T215034Z
UID:3804-1639760400-1639771200@hinescreek.com
SUMMARY:Christmas Craft Sale
DESCRIPTION:
URL:https://hinescreek.com/event/christmas-craft-sale-2/
LOCATION:Seniors Drop-in Center\, 916 2nd Ave\, Hines Creek\, Alberta\, T0H 2A0\, Canada
END:VEVENT
END:VCALENDAR