BEGIN:VCALENDAR
VERSION:2.0
PRODID:-//Village of Hines Creek - ECPv6.10.2//NONSGML v1.0//EN
CALSCALE:GREGORIAN
METHOD:PUBLISH
X-WR-CALNAME:Village of Hines Creek
X-ORIGINAL-URL:https://hinescreek.com
X-WR-CALDESC:Events for Village of Hines Creek
REFRESH-INTERVAL;VALUE=DURATION:PT1H
X-Robots-Tag:noindex
X-PUBLISHED-TTL:PT1H
BEGIN:VTIMEZONE
TZID:America/Edmonton
BEGIN:DAYLIGHT
TZOFFSETFROM:-0700
TZOFFSETTO:-0600
TZNAME:MDT
DTSTART:20210314T090000
END:DAYLIGHT
BEGIN:STANDARD
TZOFFSETFROM:-0600
TZOFFSETTO:-0700
TZNAME:MST
DTSTART:20211107T080000
END:STANDARD
BEGIN:DAYLIGHT
TZOFFSETFROM:-0700
TZOFFSETTO:-0600
TZNAME:MDT
DTSTART:20220313T090000
END:DAYLIGHT
BEGIN:STANDARD
TZOFFSETFROM:-0600
TZOFFSETTO:-0700
TZNAME:MST
DTSTART:20221106T080000
END:STANDARD
END:VTIMEZONE
BEGIN:VEVENT
DTSTART;TZID=America/Edmonton:20220207T190000
DTEND;TZID=America/Edmonton:20220207T190000
DTSTAMP:20260422T154202
CREATED:20220127T201624Z
LAST-MODIFIED:20220203T205339Z
UID:3914-1644260400-1644260400@hinescreek.com
SUMMARY:Joint Meeting with Clear Hills County & The Village of Hines Creek
DESCRIPTION:
URL:https://hinescreek.com/event/joint-meeting-with-clear-hills-county-the-village-of-hines-creek/
LOCATION:Dave Shaw Memorial Complex\, 712 8th Street\, Hines Creek
END:VEVENT
BEGIN:VEVENT
DTSTART;TZID=America/Edmonton:20220125T090000
DTEND;TZID=America/Edmonton:20220125T090000
DTSTAMP:20260422T154202
CREATED:20220113T230503Z
LAST-MODIFIED:20220113T230503Z
UID:3873-1643101200-1643101200@hinescreek.com
SUMMARY:Regular Council Meeting
DESCRIPTION:
URL:https://hinescreek.com/event/regular-council-meeting-2/
LOCATION:Municipal Building\, 212 10TH STREET\, HINES CREEK\, AB\, T0H 2A0\, Canada
END:VEVENT
BEGIN:VEVENT
DTSTART;TZID=America/Edmonton:20220120T170000
DTEND;TZID=America/Edmonton:20220120T170000
DTSTAMP:20260422T154202
CREATED:20220112T204505Z
LAST-MODIFIED:20220112T204505Z
UID:3867-1642698000-1642698000@hinescreek.com
SUMMARY:Operating & Capital Budget Meeting
DESCRIPTION:
URL:https://hinescreek.com/event/operating-capital-budget-meeting-3/
LOCATION:Municipal Building\, 212 10TH STREET\, HINES CREEK\, AB\, T0H 2A0\, Canada
END:VEVENT
BEGIN:VEVENT
DTSTART;TZID=America/Edmonton:20220111T090000
DTEND;TZID=America/Edmonton:20220111T090000
DTSTAMP:20260422T154202
CREATED:20220113T230418Z
LAST-MODIFIED:20220113T230530Z
UID:3871-1641891600-1641891600@hinescreek.com
SUMMARY:Regular Council Meeting
DESCRIPTION:
URL:https://hinescreek.com/event/regular-council-meeting/
LOCATION:Municipal Building\, 212 10TH STREET\, HINES CREEK\, AB\, T0H 2A0\, Canada
END:VEVENT
BEGIN:VEVENT
DTSTART;VALUE=DATE:20211231
DTEND;VALUE=DATE:20220101
DTSTAMP:20260422T154202
CREATED:20211216T160543Z
LAST-MODIFIED:20211216T160543Z
UID:3824-1640908800-1640995199@hinescreek.com
SUMMARY:Outstanding Taxes Due
DESCRIPTION:
URL:https://hinescreek.com/event/outstanding-taxes-due/
LOCATION:Municipal Building\, 212 10TH STREET\, HINES CREEK\, AB\, T0H 2A0\, Canada
END:VEVENT
BEGIN:VEVENT
DTSTART;TZID=America/Edmonton:20211225T080000
DTEND;TZID=America/Edmonton:20211229T163000
DTSTAMP:20260422T154202
CREATED:20211110T180532Z
LAST-MODIFIED:20211206T184024Z
UID:3755-1640419200-1640795400@hinescreek.com
SUMMARY:Village Office Closed
DESCRIPTION:
URL:https://hinescreek.com/event/village-office-closed/
LOCATION:AB
END:VEVENT
BEGIN:VEVENT
DTSTART;VALUE=DATE:20211224
DTEND;VALUE=DATE:20211225
DTSTAMP:20260422T154202
CREATED:20211110T180312Z
LAST-MODIFIED:20211206T184048Z
UID:3752-1640304000-1640390399@hinescreek.com
SUMMARY:Village Office closes at Noon
DESCRIPTION:
URL:https://hinescreek.com/event/village-office-closes-at-noon/
LOCATION:AB
END:VEVENT
BEGIN:VEVENT
DTSTART;TZID=America/Edmonton:20211217T170000
DTEND;TZID=America/Edmonton:20211217T200000
DTSTAMP:20260422T154202
CREATED:20211203T215034Z
LAST-MODIFIED:20211203T215034Z
UID:3804-1639760400-1639771200@hinescreek.com
SUMMARY:Christmas Craft Sale
DESCRIPTION:
URL:https://hinescreek.com/event/christmas-craft-sale-2/
LOCATION:Seniors Drop-in Center\, 916 2nd Ave\, Hines Creek\, Alberta\, T0H 2A0\, Canada
END:VEVENT
BEGIN:VEVENT
DTSTART;TZID=America/Edmonton:20211214T090000
DTEND;TZID=America/Edmonton:20211214T090000
DTSTAMP:20260422T154202
CREATED:20210618T154715Z
LAST-MODIFIED:20211110T175025Z
UID:3291-1639472400-1639472400@hinescreek.com
SUMMARY:Council Meeting
DESCRIPTION:
URL:https://hinescreek.com/event/council-meeting-12/
LOCATION:Municipal Building\, 212 10TH STREET\, HINES CREEK\, AB\, T0H 2A0\, Canada
END:VEVENT
BEGIN:VEVENT
DTSTART;TZID=America/Edmonton:20211123T090000
DTEND;TZID=America/Edmonton:20211123T090000
DTSTAMP:20260422T154202
CREATED:20210618T154623Z
LAST-MODIFIED:20211110T174805Z
UID:3289-1637658000-1637658000@hinescreek.com
SUMMARY:Council Meeting
DESCRIPTION:
URL:https://hinescreek.com/event/council-meeting-11/
LOCATION:Municipal Building\, 212 10TH STREET\, HINES CREEK\, AB\, T0H 2A0\, Canada
END:VEVENT
BEGIN:VEVENT
DTSTART;TZID=America/Edmonton:20211113T110000
DTEND;TZID=America/Edmonton:20211113T160000
DTSTAMP:20260422T154202
CREATED:20211110T180139Z
LAST-MODIFIED:20211110T180139Z
UID:3746-1636801200-1636819200@hinescreek.com
SUMMARY:Christmas Craft Sale
DESCRIPTION:
URL:https://hinescreek.com/event/christmas-craft-sale/
LOCATION:Dave Shaw Memorial Complex\, 712 8th Street\, Hines Creek
END:VEVENT
BEGIN:VEVENT
DTSTART;VALUE=DATE:20211111
DTEND;VALUE=DATE:20211112
DTSTAMP:20260422T154202
CREATED:20211108T184146Z
LAST-MODIFIED:20211108T184207Z
UID:3740-1636588800-1636675199@hinescreek.com
SUMMARY:Remembrance Day
DESCRIPTION:
URL:https://hinescreek.com/event/remembrance-day/
LOCATION:Cenotaph Park\, 115 10 Street\, Hines Creek\, Alberta\, T0H 2A0\, Canada
ATTACH;FMTTYPE=image/png:https://hinescreek.com/wp-content/uploads/2021/11/Remembramce-Closure-2021.png
END:VEVENT
BEGIN:VEVENT
DTSTART;TZID=America/Edmonton:20211109T090000
DTEND;TZID=America/Edmonton:20211109T090000
DTSTAMP:20260422T154202
CREATED:20210618T154534Z
LAST-MODIFIED:20211110T174645Z
UID:3287-1636448400-1636448400@hinescreek.com
SUMMARY:Council Meeting
DESCRIPTION:
URL:https://hinescreek.com/event/council-meeting-10/
LOCATION:Municipal Building\, 212 10TH STREET\, HINES CREEK\, AB\, T0H 2A0\, Canada
END:VEVENT
BEGIN:VEVENT
DTSTART;VALUE=DATE:20211031
DTEND;VALUE=DATE:20211101
DTSTAMP:20260422T154202
CREATED:20211018T192236Z
LAST-MODIFIED:20211018T192236Z
UID:3682-1635638400-1635724799@hinescreek.com
SUMMARY:Happy Halloween
DESCRIPTION:
URL:https://hinescreek.com/event/happy-halloween/
LOCATION:AB
END:VEVENT
BEGIN:VEVENT
DTSTART;VALUE=DATE:20211028
DTEND;VALUE=DATE:20211030
DTSTAMP:20260422T154202
CREATED:20211025T213825Z
LAST-MODIFIED:20211025T213825Z
UID:3713-1635379200-1635551999@hinescreek.com
SUMMARY:Bulk Water Truckfill Station Installation
DESCRIPTION:
URL:https://hinescreek.com/event/bulk-water-truckfill-station-installation/
LOCATION:Municipal Building\, 212 10TH STREET\, HINES CREEK\, AB\, T0H 2A0\, Canada
END:VEVENT
BEGIN:VEVENT
DTSTART;TZID=America/Edmonton:20211026T190000
DTEND;TZID=America/Edmonton:20211026T190000
DTSTAMP:20260422T154202
CREATED:20211018T192453Z
LAST-MODIFIED:20211018T192453Z
UID:3686-1635274800-1635274800@hinescreek.com
SUMMARY:Council Organizational Meeting
DESCRIPTION:
URL:https://hinescreek.com/event/council-organizational-meeting/
LOCATION:Municipal Building\, 212 10TH STREET\, HINES CREEK\, AB\, T0H 2A0\, Canada
END:VEVENT
BEGIN:VEVENT
DTSTART;TZID=America/Edmonton:20211026T190000
DTEND;TZID=America/Edmonton:20211026T190000
DTSTAMP:20260422T154202
CREATED:20210618T154449Z
LAST-MODIFIED:20210618T174947Z
UID:3285-1635274800-1635274800@hinescreek.com
SUMMARY:Council Meeting
DESCRIPTION:
URL:https://hinescreek.com/event/council-meeting-9/
LOCATION:Municipal Building\, 212 10TH STREET\, HINES CREEK\, AB\, T0H 2A0\, Canada
END:VEVENT
BEGIN:VEVENT
DTSTART;TZID=America/Edmonton:20211023T203000
DTEND;TZID=America/Edmonton:20211023T203000
DTSTAMP:20260422T154202
CREATED:20210618T165639Z
LAST-MODIFIED:20211019T210004Z
UID:3293-1635021000-1635021000@hinescreek.com
SUMMARY:Fireworks-Lighting Up the Sky for Bella's 10th Birthday
DESCRIPTION:
URL:https://hinescreek.com/event/fireworks-lighting-up-the-sky-for-bellas-10th-birthday/
LOCATION:Hines Creek Baseball Diamonds\, Ball Diamonds\, HINES CREEK\, AB\, T0H 2A0\, Canada
END:VEVENT
BEGIN:VEVENT
DTSTART;TZID=America/Edmonton:20211018T100000
DTEND;TZID=America/Edmonton:20211018T200000
DTSTAMP:20260422T154202
CREATED:20210621T200215Z
LAST-MODIFIED:20210921T185558Z
UID:3332-1634551200-1634587200@hinescreek.com
SUMMARY:Election Day
DESCRIPTION:On Election Day there will multiple voting opportunities. \nThere will be a Municipal Election with the following candidates nominated:\nLen Rimmer\nHazel Reintjes\nJames Williams\nCamille Zavisha\nAlison Bjornson\nMunicipal Election Voter ID Requirements \nThere will also be a Senate Election held\, click here for a list of candidates nominated. \nA Referendum Election will also be held on the following topics: \nQuestion 1: Equalization \nShould section 36(2) of the Constitution Act\, 1982 – Parliament and the government of Canada’s commitment to the principle of making equalization payments – be removed from the constitution? \nQuestion 2: Daylight Saving Time \nDo you want Alberta to adopt year-round Daylight Saving Time\, which is summer hours\, eliminating the need to change our clocks twice a year? \nDetails on the Referendum Questions can be found here. \nSenate & Referendum Voter ID Requirements
URL:https://hinescreek.com/event/election-day/
LOCATION:Seniors Drop-in Center\, 916 2nd Ave\, Hines Creek\, Alberta\, T0H 2A0\, Canada
END:VEVENT
BEGIN:VEVENT
DTSTART;TZID=America/Edmonton:20211013T190000
DTEND;TZID=America/Edmonton:20211013T190000
DTSTAMP:20260422T154202
CREATED:20211008T205517Z
LAST-MODIFIED:20211008T205543Z
UID:3661-1634151600-1634151600@hinescreek.com
SUMMARY:Operating & Capital Budget Meeting
DESCRIPTION:
URL:https://hinescreek.com/event/operating-capital-budget-meeting-2/
LOCATION:Municipal Building\, 212 10TH STREET\, HINES CREEK\, AB\, T0H 2A0\, Canada
END:VEVENT
BEGIN:VEVENT
DTSTART;TZID=America/Edmonton:20211012T190000
DTEND;TZID=America/Edmonton:20211012T190000
DTSTAMP:20260422T154202
CREATED:20210618T154409Z
LAST-MODIFIED:20210618T174923Z
UID:3283-1634065200-1634065200@hinescreek.com
SUMMARY:Council Meeting
DESCRIPTION:
URL:https://hinescreek.com/event/council-meeting-8/
LOCATION:Municipal Building\, 212 10TH STREET\, HINES CREEK\, AB\, T0H 2A0\, Canada
END:VEVENT
BEGIN:VEVENT
DTSTART;VALUE=DATE:20211011
DTEND;VALUE=DATE:20211012
DTSTAMP:20260422T154202
CREATED:20211008T210034Z
LAST-MODIFIED:20211008T210102Z
UID:3669-1633910400-1633996799@hinescreek.com
SUMMARY:Village Office Closed - Thanksgiving Day
DESCRIPTION:
URL:https://hinescreek.com/event/village-office-closed-thanksgiving-day/
LOCATION:Municipal Building\, 212 10TH STREET\, HINES CREEK\, AB\, T0H 2A0\, Canada
END:VEVENT
BEGIN:VEVENT
DTSTART;TZID=America/Edmonton:20211007T190000
DTEND;TZID=America/Edmonton:20211007T190000
DTSTAMP:20260422T154202
CREATED:20210930T213658Z
LAST-MODIFIED:20211008T205630Z
UID:3609-1633633200-1633633200@hinescreek.com
SUMMARY:Operating & Capital Budget Meeting
DESCRIPTION:Rescheduled until October 13\, 2021
URL:https://hinescreek.com/event/operating-capital-budget-meeting/
LOCATION:Municipal Building\, 212 10TH STREET\, HINES CREEK\, AB\, T0H 2A0\, Canada
END:VEVENT
BEGIN:VEVENT
DTSTART;VALUE=DATE:20211007
DTEND;VALUE=DATE:20211009
DTSTAMP:20260422T154202
CREATED:20211006T215402Z
LAST-MODIFIED:20211008T205656Z
UID:3629-1633564800-1633737599@hinescreek.com
SUMMARY:Sewer Flushing Notice
DESCRIPTION:
URL:https://hinescreek.com/event/sewer-flushing-notice/
LOCATION:AB
END:VEVENT
BEGIN:VEVENT
DTSTART;VALUE=DATE:20211001
DTEND;VALUE=DATE:20211002
DTSTAMP:20260422T154202
CREATED:20210923T170534Z
LAST-MODIFIED:20210923T170610Z
UID:3590-1633046400-1633132799@hinescreek.com
SUMMARY:RV Dump Closed
DESCRIPTION:The RV dumping station will be closed for the season on Friday October 1\, 2021
URL:https://hinescreek.com/event/rv-dump-closed/
LOCATION:Municipal Building\, 212 10TH STREET\, HINES CREEK\, AB\, T0H 2A0\, Canada
END:VEVENT
BEGIN:VEVENT
DTSTART;TZID=America/Edmonton:20210928T190000
DTEND;TZID=America/Edmonton:20210928T190000
DTSTAMP:20260422T154202
CREATED:20210618T154321Z
LAST-MODIFIED:20210618T174857Z
UID:3281-1632855600-1632855600@hinescreek.com
SUMMARY:Council Meeting
DESCRIPTION:
URL:https://hinescreek.com/event/council-meeting-7/
LOCATION:Municipal Building\, 212 10TH STREET\, HINES CREEK\, AB\, T0H 2A0\, Canada
END:VEVENT
BEGIN:VEVENT
DTSTART;TZID=America/Edmonton:20210923T190000
DTEND;TZID=America/Edmonton:20210923T210000
DTSTAMP:20260422T154202
CREATED:20210923T170757Z
LAST-MODIFIED:20210923T170757Z
UID:3592-1632423600-1632430800@hinescreek.com
SUMMARY:Hines Creek & District Recreation Board Meeting
DESCRIPTION:
URL:https://hinescreek.com/event/hines-creek-district-recreation-board-meeting/
LOCATION:Municipal Building\, 212 10TH STREET\, HINES CREEK\, AB\, T0H 2A0\, Canada
END:VEVENT
BEGIN:VEVENT
DTSTART;VALUE=DATE:20210920
DTEND;VALUE=DATE:20210921
DTSTAMP:20260422T154202
CREATED:20210621T195432Z
LAST-MODIFIED:20210621T195432Z
UID:3328-1632096000-1632182399@hinescreek.com
SUMMARY:Nomination Day
DESCRIPTION:This is the last day to file nomination papers to run for Municipal Council.\nVisit our Elections site for more information:\nhttps://hinescreek.com/election-2021/
URL:https://hinescreek.com/event/nomination-day/
LOCATION:Municipal Building\, 212 10TH STREET\, HINES CREEK\, AB\, T0H 2A0\, Canada
END:VEVENT
BEGIN:VEVENT
DTSTART;TZID=America/Edmonton:20210917T203000
DTEND;TZID=America/Edmonton:20210917T220000
DTSTAMP:20260422T154202
CREATED:20210909T193102Z
LAST-MODIFIED:20210909T193102Z
UID:3554-1631910600-1631916000@hinescreek.com
SUMMARY:Movie Night at the Museum
DESCRIPTION:
URL:https://hinescreek.com/event/movie-night-at-the-museum/
LOCATION:End of Steel Heritage Museum\, 627 Government Road\, Hines Creek
ORGANIZER;CN="End of Steel Heritage Museum":MAILTO:endofsteelmuseum@gmail.com
END:VEVENT
BEGIN:VEVENT
DTSTART;TZID=America/Edmonton:20210914T190000
DTEND;TZID=America/Edmonton:20210914T200000
DTSTAMP:20260422T154202
CREATED:20210826T190635Z
LAST-MODIFIED:20210826T190635Z
UID:3522-1631646000-1631649600@hinescreek.com
SUMMARY:Councillor Information Night
DESCRIPTION:
URL:https://hinescreek.com/event/councillor-information-night/
LOCATION:Municipal Building\, 212 10TH STREET\, HINES CREEK\, AB\, T0H 2A0\, Canada
END:VEVENT
END:VCALENDAR