BEGIN:VCALENDAR
VERSION:2.0
PRODID:-//Village of Hines Creek - ECPv6.10.2//NONSGML v1.0//EN
CALSCALE:GREGORIAN
METHOD:PUBLISH
X-WR-CALNAME:Village of Hines Creek
X-ORIGINAL-URL:https://hinescreek.com
X-WR-CALDESC:Events for Village of Hines Creek
REFRESH-INTERVAL;VALUE=DURATION:PT1H
X-Robots-Tag:noindex
X-PUBLISHED-TTL:PT1H
BEGIN:VTIMEZONE
TZID:America/Edmonton
BEGIN:DAYLIGHT
TZOFFSETFROM:-0700
TZOFFSETTO:-0600
TZNAME:MDT
DTSTART:20210314T090000
END:DAYLIGHT
BEGIN:STANDARD
TZOFFSETFROM:-0600
TZOFFSETTO:-0700
TZNAME:MST
DTSTART:20211107T080000
END:STANDARD
END:VTIMEZONE
BEGIN:VEVENT
DTSTART;TZID=America/Edmonton:20210923T190000
DTEND;TZID=America/Edmonton:20210923T210000
DTSTAMP:20260422T194326
CREATED:20210923T170757Z
LAST-MODIFIED:20210923T170757Z
UID:3592-1632423600-1632430800@hinescreek.com
SUMMARY:Hines Creek & District Recreation Board Meeting
DESCRIPTION:
URL:https://hinescreek.com/event/hines-creek-district-recreation-board-meeting/
LOCATION:Municipal Building\, 212 10TH STREET\, HINES CREEK\, AB\, T0H 2A0\, Canada
END:VEVENT
BEGIN:VEVENT
DTSTART;VALUE=DATE:20210920
DTEND;VALUE=DATE:20210921
DTSTAMP:20260422T194326
CREATED:20210621T195432Z
LAST-MODIFIED:20210621T195432Z
UID:3328-1632096000-1632182399@hinescreek.com
SUMMARY:Nomination Day
DESCRIPTION:This is the last day to file nomination papers to run for Municipal Council.\nVisit our Elections site for more information:\nhttps://hinescreek.com/election-2021/
URL:https://hinescreek.com/event/nomination-day/
LOCATION:Municipal Building\, 212 10TH STREET\, HINES CREEK\, AB\, T0H 2A0\, Canada
END:VEVENT
BEGIN:VEVENT
DTSTART;TZID=America/Edmonton:20210917T203000
DTEND;TZID=America/Edmonton:20210917T220000
DTSTAMP:20260422T194326
CREATED:20210909T193102Z
LAST-MODIFIED:20210909T193102Z
UID:3554-1631910600-1631916000@hinescreek.com
SUMMARY:Movie Night at the Museum
DESCRIPTION:
URL:https://hinescreek.com/event/movie-night-at-the-museum/
LOCATION:End of Steel Heritage Museum\, 627 Government Road\, Hines Creek
ORGANIZER;CN="End of Steel Heritage Museum":MAILTO:endofsteelmuseum@gmail.com
END:VEVENT
BEGIN:VEVENT
DTSTART;TZID=America/Edmonton:20210914T190000
DTEND;TZID=America/Edmonton:20210914T200000
DTSTAMP:20260422T194326
CREATED:20210826T190635Z
LAST-MODIFIED:20210826T190635Z
UID:3522-1631646000-1631649600@hinescreek.com
SUMMARY:Councillor Information Night
DESCRIPTION:
URL:https://hinescreek.com/event/councillor-information-night/
LOCATION:Municipal Building\, 212 10TH STREET\, HINES CREEK\, AB\, T0H 2A0\, Canada
END:VEVENT
BEGIN:VEVENT
DTSTART;TZID=America/Edmonton:20210914T190000
DTEND;TZID=America/Edmonton:20210914T190000
DTSTAMP:20260422T194326
CREATED:20210618T154240Z
LAST-MODIFIED:20210618T174837Z
UID:3279-1631646000-1631646000@hinescreek.com
SUMMARY:Council Meeting
DESCRIPTION:
URL:https://hinescreek.com/event/council-meeting-6/
LOCATION:Municipal Building\, 212 10TH STREET\, HINES CREEK\, AB\, T0H 2A0\, Canada
END:VEVENT
BEGIN:VEVENT
DTSTART;TZID=America/Edmonton:20210913T170000
DTEND;TZID=America/Edmonton:20210913T190000
DTSTAMP:20260422T194326
CREATED:20210907T213320Z
LAST-MODIFIED:20210907T213320Z
UID:3544-1631552400-1631559600@hinescreek.com
SUMMARY:Hines Creek Figure Skating Registration Night
DESCRIPTION:Hines Creek & District Figure Skating Club will be holding their registration September 13th from 5:00-7:00PM at the Hines Creek Arena. Please bring skater’s health care number.\n\n\n**Anyone interested in Power Skating can also sign up. We need minimum 10 skaters. Skaters must skate forwards\, backwards and forwards crossovers.\n\n\nFeel free to message Heidi Rondeau with any questions 780-933-5570.
URL:https://hinescreek.com/event/hines-creek-figure-skating-registration-night/
LOCATION:Dave Shaw Memorial Complex\, 712 8th Street\, Hines Creek
END:VEVENT
BEGIN:VEVENT
DTSTART;TZID=America/Edmonton:20210912T110000
DTEND;TZID=America/Edmonton:20210912T143000
DTSTAMP:20260422T194326
CREATED:20210816T195006Z
LAST-MODIFIED:20210816T195006Z
UID:3476-1631444400-1631457000@hinescreek.com
SUMMARY:Community Appreciation Day
DESCRIPTION:
URL:https://hinescreek.com/event/community-appreciation-day/
LOCATION:ATB Financial\, 114 10th Street\, Hines Creek\, Alberta\, T0H 2A0\, Canada
END:VEVENT
BEGIN:VEVENT
DTSTART;TZID=America/Edmonton:20210904T080000
DTEND;TZID=America/Edmonton:20210905T170000
DTSTAMP:20260422T194326
CREATED:20210827T153008Z
LAST-MODIFIED:20210827T153008Z
UID:3526-1630742400-1630861200@hinescreek.com
SUMMARY:George Lake Music Festival
DESCRIPTION:
URL:https://hinescreek.com/event/george-lake-music-festival/
LOCATION:George Lake Campground\, 3km South of Hines Creek
END:VEVENT
BEGIN:VEVENT
DTSTART;TZID=America/Edmonton:20210826T110000
DTEND;TZID=America/Edmonton:20210826T120000
DTSTAMP:20260422T194326
CREATED:20210708T214325Z
LAST-MODIFIED:20210708T214325Z
UID:3409-1629975600-1629979200@hinescreek.com
SUMMARY:Storytime at The Library
DESCRIPTION: 
URL:https://hinescreek.com/event/storytime-at-the-library-6/
LOCATION:Hines Creek Municipal Library\, 212 10TH STREET\, HINES CREEK\, AB\, T0H 2A0\, Canada
ORGANIZER;CN="Hines Creek Municipal Library":MAILTO:librarian@hinescreeklibrary.ab.ca
END:VEVENT
BEGIN:VEVENT
DTSTART;TZID=America/Edmonton:20210824T190000
DTEND;TZID=America/Edmonton:20210824T190000
DTSTAMP:20260422T194326
CREATED:20210618T154153Z
LAST-MODIFIED:20210618T174808Z
UID:3277-1629831600-1629831600@hinescreek.com
SUMMARY:Council Meeting
DESCRIPTION:
URL:https://hinescreek.com/event/council-meeting-5/
LOCATION:Municipal Building\, 212 10TH STREET\, HINES CREEK\, AB\, T0H 2A0\, Canada
END:VEVENT
BEGIN:VEVENT
DTSTART;TZID=America/Edmonton:20210819T110000
DTEND;TZID=America/Edmonton:20210819T120000
DTSTAMP:20260422T194326
CREATED:20210708T214147Z
LAST-MODIFIED:20210708T214147Z
UID:3407-1629370800-1629374400@hinescreek.com
SUMMARY:Storytime at The Library
DESCRIPTION:
URL:https://hinescreek.com/event/storytime-at-the-library-5/
LOCATION:Hines Creek Municipal Library\, 212 10TH STREET\, HINES CREEK\, AB\, T0H 2A0\, Canada
ORGANIZER;CN="Hines Creek Municipal Library":MAILTO:librarian@hinescreeklibrary.ab.ca
END:VEVENT
BEGIN:VEVENT
DTSTART;TZID=America/Edmonton:20210817T130000
DTEND;TZID=America/Edmonton:20210817T160000
DTSTAMP:20260422T194326
CREATED:20210628T175126Z
LAST-MODIFIED:20210628T175126Z
UID:3373-1629205200-1629216000@hinescreek.com
SUMMARY:End of Steel Museum Explorers Club Group 2 (ages 9-14)
DESCRIPTION:
URL:https://hinescreek.com/event/end-of-steel-museum-explorers-club-group-2-ages-9-14-6/
LOCATION:End of Steel Heritage Museum\, 627 Government Road\, Hines Creek
ORGANIZER;CN="End of Steel Heritage Museum":MAILTO:endofsteelmuseum@gmail.com
END:VEVENT
BEGIN:VEVENT
DTSTART;TZID=America/Edmonton:20210817T100000
DTEND;TZID=America/Edmonton:20210817T124500
DTSTAMP:20260422T194326
CREATED:20210628T175017Z
LAST-MODIFIED:20210628T175017Z
UID:3371-1629194400-1629204300@hinescreek.com
SUMMARY:End of Steel Museum Explorers Club Group 1 (ages 5-8)
DESCRIPTION:
URL:https://hinescreek.com/event/end-of-steel-museum-explorers-club-group-1-ages-5-8-6/
LOCATION:End of Steel Heritage Museum\, 627 Government Road\, Hines Creek
ORGANIZER;CN="End of Steel Heritage Museum":MAILTO:endofsteelmuseum@gmail.com
END:VEVENT
BEGIN:VEVENT
DTSTART;TZID=America/Edmonton:20210812T110000
DTEND;TZID=America/Edmonton:20210812T120000
DTSTAMP:20260422T194326
CREATED:20210708T214009Z
LAST-MODIFIED:20210708T214009Z
UID:3405-1628766000-1628769600@hinescreek.com
SUMMARY:Storytime at The Library
DESCRIPTION:
URL:https://hinescreek.com/event/storytime-at-the-library-4/
LOCATION:Hines Creek Municipal Library\, 212 10TH STREET\, HINES CREEK\, AB\, T0H 2A0\, Canada
ORGANIZER;CN="Hines Creek Municipal Library":MAILTO:librarian@hinescreeklibrary.ab.ca
END:VEVENT
BEGIN:VEVENT
DTSTART;TZID=America/Edmonton:20210810T190000
DTEND;TZID=America/Edmonton:20210810T190000
DTSTAMP:20260422T194326
CREATED:20210705T214652Z
LAST-MODIFIED:20210705T214652Z
UID:3382-1628622000-1628622000@hinescreek.com
SUMMARY:Public Auction
DESCRIPTION:The Village will be holding a public auction on August 10th\, 2021.  Sealed bids clearly marked “Public Land Auction” will be accepted until 4:30 pm on August 10th\, 2021.  Follow the link below for full details. \nPublic Auction August 10\, 2021 \nContact the Village with any questions at:\n(780)494-3690\ncao@hinescreek.com 
URL:https://hinescreek.com/event/public-auction/
LOCATION:Municipal Building\, 212 10TH STREET\, HINES CREEK\, AB\, T0H 2A0\, Canada
END:VEVENT
BEGIN:VEVENT
DTSTART;TZID=America/Edmonton:20210810T190000
DTEND;TZID=America/Edmonton:20210810T190000
DTSTAMP:20260422T194326
CREATED:20210618T153838Z
LAST-MODIFIED:20210618T174749Z
UID:3271-1628622000-1628622000@hinescreek.com
SUMMARY:Council Meeting
DESCRIPTION:
URL:https://hinescreek.com/event/council-meeting-3/
LOCATION:Municipal Building\, 212 10TH STREET\, HINES CREEK\, AB\, T0H 2A0\, Canada
END:VEVENT
BEGIN:VEVENT
DTSTART;TZID=America/Edmonton:20210810T130000
DTEND;TZID=America/Edmonton:20210810T160000
DTSTAMP:20260422T194326
CREATED:20210628T174600Z
LAST-MODIFIED:20210628T174600Z
UID:3369-1628600400-1628611200@hinescreek.com
SUMMARY:End of Steel Museum Explorers Club Group 2 (ages 9-14)
DESCRIPTION:
URL:https://hinescreek.com/event/end-of-steel-museum-explorers-club-group-2-ages-9-14-5/
LOCATION:End of Steel Heritage Museum\, 627 Government Road\, Hines Creek
ORGANIZER;CN="End of Steel Heritage Museum":MAILTO:endofsteelmuseum@gmail.com
END:VEVENT
BEGIN:VEVENT
DTSTART;TZID=America/Edmonton:20210810T100000
DTEND;TZID=America/Edmonton:20210810T124500
DTSTAMP:20260422T194326
CREATED:20210628T174430Z
LAST-MODIFIED:20210628T174430Z
UID:3367-1628589600-1628599500@hinescreek.com
SUMMARY:End of Steel Museum Explorers Club Group 1 (ages 5-8)
DESCRIPTION:
URL:https://hinescreek.com/event/end-of-steel-museum-explorers-club-group-1-ages-5-8-5/
LOCATION:End of Steel Heritage Museum\, 627 Government Road\, Hines Creek
ORGANIZER;CN="End of Steel Heritage Museum":MAILTO:endofsteelmuseum@gmail.com
END:VEVENT
BEGIN:VEVENT
DTSTART;TZID=America/Edmonton:20210805T110000
DTEND;TZID=America/Edmonton:20210805T120000
DTSTAMP:20260422T194326
CREATED:20210708T213728Z
LAST-MODIFIED:20210708T213824Z
UID:3402-1628161200-1628164800@hinescreek.com
SUMMARY:Storytime at The Library
DESCRIPTION:
URL:https://hinescreek.com/event/storytime-at-the-library-3/
LOCATION:Hines Creek Municipal Library\, 212 10TH STREET\, HINES CREEK\, AB\, T0H 2A0\, Canada
ORGANIZER;CN="Hines Creek Municipal Library":MAILTO:librarian@hinescreeklibrary.ab.ca
END:VEVENT
BEGIN:VEVENT
DTSTART;TZID=America/Edmonton:20210803T130000
DTEND;TZID=America/Edmonton:20210803T160000
DTSTAMP:20260422T194326
CREATED:20210628T174222Z
LAST-MODIFIED:20210628T174222Z
UID:3365-1627995600-1628006400@hinescreek.com
SUMMARY:End of Steel Museum Explorers Club Group 2 (ages 9-14)
DESCRIPTION:
URL:https://hinescreek.com/event/end-of-steel-museum-explorers-club-group-2-ages-9-14-4/
LOCATION:End of Steel Heritage Museum\, 627 Government Road\, Hines Creek
ORGANIZER;CN="End of Steel Heritage Museum":MAILTO:endofsteelmuseum@gmail.com
END:VEVENT
BEGIN:VEVENT
DTSTART;TZID=America/Edmonton:20210803T100000
DTEND;TZID=America/Edmonton:20210803T124500
DTSTAMP:20260422T194326
CREATED:20210628T174034Z
LAST-MODIFIED:20210628T174034Z
UID:3363-1627984800-1627994700@hinescreek.com
SUMMARY:End of Steel Museum Explorers Club Group 1 (ages 5-8)
DESCRIPTION:
URL:https://hinescreek.com/event/end-of-steel-museum-explorers-club-group-1-ages-5-8-4/
LOCATION:End of Steel Heritage Museum\, 627 Government Road\, Hines Creek
ORGANIZER;CN="End of Steel Heritage Museum":MAILTO:endofsteelmuseum@gmail.com
END:VEVENT
BEGIN:VEVENT
DTSTART;VALUE=DATE:20210802
DTEND;VALUE=DATE:20210803
DTSTAMP:20260422T194326
CREATED:20210730T210054Z
LAST-MODIFIED:20210730T210054Z
UID:3443-1627862400-1627948799@hinescreek.com
SUMMARY:Heritage Day
DESCRIPTION:
URL:https://hinescreek.com/event/heritage-day/
LOCATION:End of Steel Heritage Museum\, 627 Government Road\, Hines Creek
ORGANIZER;CN="End of Steel Heritage Museum":MAILTO:endofsteelmuseum@gmail.com
END:VEVENT
BEGIN:VEVENT
DTSTART;TZID=America/Edmonton:20210729T110000
DTEND;TZID=America/Edmonton:20210729T120000
DTSTAMP:20260422T194326
CREATED:20210708T213327Z
LAST-MODIFIED:20210708T213327Z
UID:3400-1627556400-1627560000@hinescreek.com
SUMMARY:Storytime at The Library
DESCRIPTION:
URL:https://hinescreek.com/event/storytime-at-the-library-2/
LOCATION:Hines Creek Municipal Library\, 212 10TH STREET\, HINES CREEK\, AB\, T0H 2A0\, Canada
ORGANIZER;CN="Hines Creek Municipal Library":MAILTO:librarian@hinescreeklibrary.ab.ca
END:VEVENT
BEGIN:VEVENT
DTSTART;TZID=America/Edmonton:20210727T190000
DTEND;TZID=America/Edmonton:20210727T190000
DTSTAMP:20260422T194326
CREATED:20210618T154027Z
LAST-MODIFIED:20210618T174722Z
UID:3274-1627412400-1627412400@hinescreek.com
SUMMARY:Council Meeting
DESCRIPTION:
URL:https://hinescreek.com/event/council-meeting-4/
LOCATION:Municipal Building\, 212 10TH STREET\, HINES CREEK\, AB\, T0H 2A0\, Canada
END:VEVENT
BEGIN:VEVENT
DTSTART;TZID=America/Edmonton:20210727T130000
DTEND;TZID=America/Edmonton:20210727T160000
DTSTAMP:20260422T194326
CREATED:20210628T173757Z
LAST-MODIFIED:20210628T173757Z
UID:3361-1627390800-1627401600@hinescreek.com
SUMMARY:End of Steel Museum Explorers Club Group 2 (ages 9-14)
DESCRIPTION:
URL:https://hinescreek.com/event/end-of-steel-museum-explorers-club-group-2-ages-9-14-3/
LOCATION:End of Steel Heritage Museum\, 627 Government Road\, Hines Creek
ORGANIZER;CN="End of Steel Heritage Museum":MAILTO:endofsteelmuseum@gmail.com
END:VEVENT
BEGIN:VEVENT
DTSTART;TZID=America/Edmonton:20210727T100000
DTEND;TZID=America/Edmonton:20210727T124500
DTSTAMP:20260422T194326
CREATED:20210628T173643Z
LAST-MODIFIED:20210628T173643Z
UID:3359-1627380000-1627389900@hinescreek.com
SUMMARY:End of Steel Museum Explorers Club Group 1 (ages 5-8)
DESCRIPTION:
URL:https://hinescreek.com/event/end-of-steel-museum-explorers-club-group-1-ages-5-8-3/
LOCATION:End of Steel Heritage Museum\, 627 Government Road\, Hines Creek
ORGANIZER;CN="End of Steel Heritage Museum":MAILTO:endofsteelmuseum@gmail.com
END:VEVENT
BEGIN:VEVENT
DTSTART;TZID=America/Edmonton:20210722T110000
DTEND;TZID=America/Edmonton:20210722T120000
DTSTAMP:20260422T194326
CREATED:20210708T212943Z
LAST-MODIFIED:20210708T212943Z
UID:3394-1626951600-1626955200@hinescreek.com
SUMMARY:Storytime at The Library
DESCRIPTION:
URL:https://hinescreek.com/event/storytime-at-the-library/
LOCATION:Hines Creek Municipal Library\, 212 10TH STREET\, HINES CREEK\, AB\, T0H 2A0\, Canada
ORGANIZER;CN="Hines Creek Municipal Library":MAILTO:librarian@hinescreeklibrary.ab.ca
END:VEVENT
BEGIN:VEVENT
DTSTART;TZID=America/Edmonton:20210720T130000
DTEND;TZID=America/Edmonton:20210720T160000
DTSTAMP:20260422T194326
CREATED:20210628T173510Z
LAST-MODIFIED:20210628T173510Z
UID:3356-1626786000-1626796800@hinescreek.com
SUMMARY:End of Steel Museum Explorers Club Group 2 (ages 9-14)
DESCRIPTION:
URL:https://hinescreek.com/event/end-of-steel-museum-explorers-club-group-2-ages-9-14-2/
LOCATION:End of Steel Heritage Museum\, 627 Government Road\, Hines Creek
ORGANIZER;CN="End of Steel Heritage Museum":MAILTO:endofsteelmuseum@gmail.com
END:VEVENT
BEGIN:VEVENT
DTSTART;TZID=America/Edmonton:20210720T100000
DTEND;TZID=America/Edmonton:20210720T124500
DTSTAMP:20260422T194326
CREATED:20210628T171927Z
LAST-MODIFIED:20210628T171927Z
UID:3353-1626775200-1626785100@hinescreek.com
SUMMARY:End of Steel Museum Explorers Club Group 1 (ages 5-8)
DESCRIPTION:
URL:https://hinescreek.com/event/end-of-steel-museum-explorers-club-group-1-ages-5-8-2/
LOCATION:End of Steel Heritage Museum\, 627 Government Road\, Hines Creek
ORGANIZER;CN="End of Steel Heritage Museum":MAILTO:endofsteelmuseum@gmail.com
END:VEVENT
BEGIN:VEVENT
DTSTART;TZID=America/Edmonton:20210715T190000
DTEND;TZID=America/Edmonton:20210715T190000
DTSTAMP:20260422T194326
CREATED:20210618T153652Z
LAST-MODIFIED:20210618T174209Z
UID:3268-1626375600-1626375600@hinescreek.com
SUMMARY:Council Meeting
DESCRIPTION:
URL:https://hinescreek.com/event/council-meeting-2/
LOCATION:Municipal Building\, 212 10TH STREET\, HINES CREEK\, AB\, T0H 2A0\, Canada
END:VEVENT
END:VCALENDAR