BEGIN:VCALENDAR
VERSION:2.0
PRODID:-//Village of Hines Creek - ECPv6.10.2//NONSGML v1.0//EN
CALSCALE:GREGORIAN
METHOD:PUBLISH
X-WR-CALNAME:Village of Hines Creek
X-ORIGINAL-URL:https://hinescreek.com
X-WR-CALDESC:Events for Village of Hines Creek
REFRESH-INTERVAL;VALUE=DURATION:PT1H
X-Robots-Tag:noindex
X-PUBLISHED-TTL:PT1H
BEGIN:VTIMEZONE
TZID:America/Edmonton
BEGIN:DAYLIGHT
TZOFFSETFROM:-0700
TZOFFSETTO:-0600
TZNAME:MDT
DTSTART:20240310T090000
END:DAYLIGHT
BEGIN:STANDARD
TZOFFSETFROM:-0600
TZOFFSETTO:-0700
TZNAME:MST
DTSTART:20241103T080000
END:STANDARD
END:VTIMEZONE
BEGIN:VEVENT
DTSTART;TZID=America/Edmonton:20241022T190000
DTEND;TZID=America/Edmonton:20241022T190000
DTSTAMP:20260420T114632
CREATED:20240206T221054Z
LAST-MODIFIED:20240206T221054Z
UID:5499-1729623600-1729623600@hinescreek.com
SUMMARY:Regular Council Meeting
DESCRIPTION:
URL:https://hinescreek.com/event/regular-council-meeting-49/
LOCATION:Municipal Building\, 212 10TH STREET\, HINES CREEK\, AB\, T0H 2A0\, Canada
END:VEVENT
BEGIN:VEVENT
DTSTART;TZID=America/Edmonton:20241008T190000
DTEND;TZID=America/Edmonton:20241008T190000
DTSTAMP:20260420T114632
CREATED:20240206T221054Z
LAST-MODIFIED:20240206T221054Z
UID:5498-1728414000-1728414000@hinescreek.com
SUMMARY:Regular Council Meeting
DESCRIPTION:
URL:https://hinescreek.com/event/regular-council-meeting-48/
LOCATION:Municipal Building\, 212 10TH STREET\, HINES CREEK\, AB\, T0H 2A0\, Canada
END:VEVENT
BEGIN:VEVENT
DTSTART;TZID=America/Edmonton:20240924T190000
DTEND;TZID=America/Edmonton:20240924T190000
DTSTAMP:20260420T114632
CREATED:20240206T221054Z
LAST-MODIFIED:20240206T221054Z
UID:5497-1727204400-1727204400@hinescreek.com
SUMMARY:Regular Council Meeting
DESCRIPTION:
URL:https://hinescreek.com/event/regular-council-meeting-47/
LOCATION:Municipal Building\, 212 10TH STREET\, HINES CREEK\, AB\, T0H 2A0\, Canada
END:VEVENT
BEGIN:VEVENT
DTSTART;TZID=America/Edmonton:20240910T190000
DTEND;TZID=America/Edmonton:20240910T190000
DTSTAMP:20260420T114632
CREATED:20240206T221036Z
LAST-MODIFIED:20240206T221036Z
UID:5496-1725994800-1725994800@hinescreek.com
SUMMARY:Regular Council Meeting
DESCRIPTION:
URL:https://hinescreek.com/event/regular-council-meeting-46/
LOCATION:Municipal Building\, 212 10TH STREET\, HINES CREEK\, AB\, T0H 2A0\, Canada
END:VEVENT
BEGIN:VEVENT
DTSTART;TZID=America/Edmonton:20240827T190000
DTEND;TZID=America/Edmonton:20240827T190000
DTSTAMP:20260420T114632
CREATED:20240206T221036Z
LAST-MODIFIED:20240206T221036Z
UID:5495-1724785200-1724785200@hinescreek.com
SUMMARY:Regular Council Meeting
DESCRIPTION:
URL:https://hinescreek.com/event/regular-council-meeting-45/
LOCATION:Municipal Building\, 212 10TH STREET\, HINES CREEK\, AB\, T0H 2A0\, Canada
END:VEVENT
BEGIN:VEVENT
DTSTART;TZID=America/Edmonton:20240813T190000
DTEND;TZID=America/Edmonton:20240813T190000
DTSTAMP:20260420T114632
CREATED:20240206T221036Z
LAST-MODIFIED:20240206T221036Z
UID:5494-1723575600-1723575600@hinescreek.com
SUMMARY:Regular Council Meeting
DESCRIPTION:
URL:https://hinescreek.com/event/regular-council-meeting-44/
LOCATION:Municipal Building\, 212 10TH STREET\, HINES CREEK\, AB\, T0H 2A0\, Canada
END:VEVENT
BEGIN:VEVENT
DTSTART;TZID=America/Edmonton:20240725T180000
DTEND;TZID=America/Edmonton:20240725T200000
DTSTAMP:20260420T114632
CREATED:20240717T221725Z
LAST-MODIFIED:20240717T221725Z
UID:5751-1721930400-1721937600@hinescreek.com
SUMMARY:Clear Hills County BBQ
DESCRIPTION:
URL:https://hinescreek.com/event/clear-hills-county-bbq/
LOCATION:George Lake Campground\, 3km South of Hines Creek
ORGANIZER;CN="Clear Hills County":MAILTO:info@clearhillscounty.ab.ca
END:VEVENT
BEGIN:VEVENT
DTSTART;TZID=America/Edmonton:20240723T190000
DTEND;TZID=America/Edmonton:20240723T190000
DTSTAMP:20260420T114632
CREATED:20240206T221036Z
LAST-MODIFIED:20240206T221036Z
UID:5493-1721761200-1721761200@hinescreek.com
SUMMARY:Regular Council Meeting
DESCRIPTION:
URL:https://hinescreek.com/event/regular-council-meeting-43/
LOCATION:Municipal Building\, 212 10TH STREET\, HINES CREEK\, AB\, T0H 2A0\, Canada
END:VEVENT
BEGIN:VEVENT
DTSTART;TZID=America/Edmonton:20240709T190000
DTEND;TZID=America/Edmonton:20240709T190000
DTSTAMP:20260420T114632
CREATED:20240206T221036Z
LAST-MODIFIED:20240206T221036Z
UID:5492-1720551600-1720551600@hinescreek.com
SUMMARY:Regular Council Meeting
DESCRIPTION:
URL:https://hinescreek.com/event/regular-council-meeting-42/
LOCATION:Municipal Building\, 212 10TH STREET\, HINES CREEK\, AB\, T0H 2A0\, Canada
END:VEVENT
BEGIN:VEVENT
DTSTART;TZID=America/Edmonton:20240625T190000
DTEND;TZID=America/Edmonton:20240625T190000
DTSTAMP:20260420T114632
CREATED:20240206T221022Z
LAST-MODIFIED:20240206T221023Z
UID:5486-1719342000-1719342000@hinescreek.com
SUMMARY:Regular Council Meeting
DESCRIPTION:
URL:https://hinescreek.com/event/regular-council-meeting-41/
LOCATION:Municipal Building\, 212 10TH STREET\, HINES CREEK\, AB\, T0H 2A0\, Canada
END:VEVENT
BEGIN:VEVENT
DTSTART;TZID=America/Edmonton:20240611T190000
DTEND;TZID=America/Edmonton:20240611T190000
DTSTAMP:20260420T114632
CREATED:20240206T221021Z
LAST-MODIFIED:20240206T221023Z
UID:5485-1718132400-1718132400@hinescreek.com
SUMMARY:Regular Council Meeting
DESCRIPTION:
URL:https://hinescreek.com/event/regular-council-meeting-40/
LOCATION:Municipal Building\, 212 10TH STREET\, HINES CREEK\, AB\, T0H 2A0\, Canada
END:VEVENT
BEGIN:VEVENT
DTSTART;TZID=America/Edmonton:20240605T113000
DTEND;TZID=America/Edmonton:20240605T143000
DTSTAMP:20260420T114632
CREATED:20240506T175023Z
LAST-MODIFIED:20240506T175023Z
UID:5581-1717587000-1717597800@hinescreek.com
SUMMARY:Seniors Week BBQ and Open House
DESCRIPTION:
URL:https://hinescreek.com/event/seniors-week-bbq-and-open-house/
LOCATION:Homesteader Lodge\, 904 2nd Ave\, Hines Creek
END:VEVENT
BEGIN:VEVENT
DTSTART;TZID=America/Edmonton:20240528T190000
DTEND;TZID=America/Edmonton:20240528T190000
DTSTAMP:20260420T114632
CREATED:20240206T221021Z
LAST-MODIFIED:20240206T221023Z
UID:5484-1716922800-1716922800@hinescreek.com
SUMMARY:Regular Council Meeting
DESCRIPTION:
URL:https://hinescreek.com/event/regular-council-meeting-39/
LOCATION:Municipal Building\, 212 10TH STREET\, HINES CREEK\, AB\, T0H 2A0\, Canada
END:VEVENT
BEGIN:VEVENT
DTSTART;TZID=America/Edmonton:20240515T190000
DTEND;TZID=America/Edmonton:20240515T210000
DTSTAMP:20260420T114632
CREATED:20240506T174815Z
LAST-MODIFIED:20240506T174815Z
UID:5578-1715799600-1715806800@hinescreek.com
SUMMARY:Youth Group Information Meeting
DESCRIPTION:
URL:https://hinescreek.com/event/youth-group-information-meeting/
LOCATION:Seniors Drop-in Center\, 916 2nd Ave\, Hines Creek\, Alberta\, T0H 2A0\, Canada
END:VEVENT
BEGIN:VEVENT
DTSTART;TZID=America/Edmonton:20240514T190000
DTEND;TZID=America/Edmonton:20240514T190000
DTSTAMP:20260420T114632
CREATED:20240206T221021Z
LAST-MODIFIED:20240206T221023Z
UID:5483-1715713200-1715713200@hinescreek.com
SUMMARY:Regular Council Meeting
DESCRIPTION:
URL:https://hinescreek.com/event/regular-council-meeting-38/
LOCATION:Municipal Building\, 212 10TH STREET\, HINES CREEK\, AB\, T0H 2A0\, Canada
END:VEVENT
BEGIN:VEVENT
DTSTART;TZID=America/Edmonton:20240430T183000
DTEND;TZID=America/Edmonton:20240430T210000
DTSTAMP:20260420T114632
CREATED:20240320T222026Z
LAST-MODIFIED:20240320T222026Z
UID:5560-1714501800-1714510800@hinescreek.com
SUMMARY:Learn Computer Basics with MS Word & Excel
DESCRIPTION:
URL:https://hinescreek.com/event/learn-computer-basics-with-ms-word-excel-4/
LOCATION:Hines Creek Municipal Library\, 212 10TH STREET\, HINES CREEK\, AB\, T0H 2A0\, Canada
END:VEVENT
BEGIN:VEVENT
DTSTART;TZID=America/Edmonton:20240423T190000
DTEND;TZID=America/Edmonton:20240423T190000
DTSTAMP:20260420T114632
CREATED:20240206T221021Z
LAST-MODIFIED:20240206T221023Z
UID:5482-1713898800-1713898800@hinescreek.com
SUMMARY:Regular Council Meeting
DESCRIPTION:
URL:https://hinescreek.com/event/regular-council-meeting-37/
LOCATION:Municipal Building\, 212 10TH STREET\, HINES CREEK\, AB\, T0H 2A0\, Canada
END:VEVENT
BEGIN:VEVENT
DTSTART;TZID=America/Edmonton:20240423T183000
DTEND;TZID=America/Edmonton:20240423T210000
DTSTAMP:20260420T114632
CREATED:20240320T221937Z
LAST-MODIFIED:20240320T221937Z
UID:5558-1713897000-1713906000@hinescreek.com
SUMMARY:Learn Computer Basics with MS Word & Excel
DESCRIPTION:
URL:https://hinescreek.com/event/learn-computer-basics-with-ms-word-excel-3/
LOCATION:Hines Creek Municipal Library\, 212 10TH STREET\, HINES CREEK\, AB\, T0H 2A0\, Canada
END:VEVENT
BEGIN:VEVENT
DTSTART;TZID=America/Edmonton:20240418T183000
DTEND;TZID=America/Edmonton:20240418T210000
DTSTAMP:20260420T114632
CREATED:20240320T221840Z
LAST-MODIFIED:20240320T221840Z
UID:5556-1713465000-1713474000@hinescreek.com
SUMMARY:Learn Computer Basics with MS Word & Excel
DESCRIPTION:
URL:https://hinescreek.com/event/learn-computer-basics-with-ms-word-excel-2/
LOCATION:Hines Creek Municipal Library\, 212 10TH STREET\, HINES CREEK\, AB\, T0H 2A0\, Canada
END:VEVENT
BEGIN:VEVENT
DTSTART;TZID=America/Edmonton:20240416T183000
DTEND;TZID=America/Edmonton:20240416T210000
DTSTAMP:20260420T114632
CREATED:20240320T221737Z
LAST-MODIFIED:20240320T221737Z
UID:5553-1713292200-1713301200@hinescreek.com
SUMMARY:Learn Computer Basics with MS Word & Excel
DESCRIPTION:
URL:https://hinescreek.com/event/learn-computer-basics-with-ms-word-excel/
LOCATION:Hines Creek Municipal Library\, 212 10TH STREET\, HINES CREEK\, AB\, T0H 2A0\, Canada
END:VEVENT
BEGIN:VEVENT
DTSTART;TZID=America/Edmonton:20240409T190000
DTEND;TZID=America/Edmonton:20240409T190000
DTSTAMP:20260420T114632
CREATED:20240206T221016Z
LAST-MODIFIED:20240206T221016Z
UID:5481-1712689200-1712689200@hinescreek.com
SUMMARY:Regular Council Meeting
DESCRIPTION:
URL:https://hinescreek.com/event/regular-council-meeting-36/
LOCATION:Municipal Building\, 212 10TH STREET\, HINES CREEK\, AB\, T0H 2A0\, Canada
END:VEVENT
BEGIN:VEVENT
DTSTART;TZID=America/Edmonton:20240406T100000
DTEND;TZID=America/Edmonton:20240407T160000
DTSTAMP:20260420T114632
CREATED:20240129T215450Z
LAST-MODIFIED:20240129T215450Z
UID:5445-1712397600-1712505600@hinescreek.com
SUMMARY:Pottery and Wheel Throwing for Beginners
DESCRIPTION:Taught by Diana Koshieff \nPlease contact Pauline Schultz to register 780-494-3896
URL:https://hinescreek.com/event/pottery-and-wheel-throwing-for-beginners/
LOCATION:Hines Creek Arts & Crafts Club\, 712 8th Street
END:VEVENT
BEGIN:VEVENT
DTSTART;TZID=America/Edmonton:20240326T190000
DTEND;TZID=America/Edmonton:20240326T190000
DTSTAMP:20260420T114632
CREATED:20240206T221016Z
LAST-MODIFIED:20240206T221016Z
UID:5480-1711479600-1711479600@hinescreek.com
SUMMARY:Regular Council Meeting
DESCRIPTION:
URL:https://hinescreek.com/event/regular-council-meeting-35/
LOCATION:Municipal Building\, 212 10TH STREET\, HINES CREEK\, AB\, T0H 2A0\, Canada
END:VEVENT
BEGIN:VEVENT
DTSTART;TZID=America/Edmonton:20240312T190000
DTEND;TZID=America/Edmonton:20240312T190000
DTSTAMP:20260420T114633
CREATED:20240206T221016Z
LAST-MODIFIED:20240206T221016Z
UID:5479-1710270000-1710270000@hinescreek.com
SUMMARY:Regular Council Meeting
DESCRIPTION:
URL:https://hinescreek.com/event/regular-council-meeting-34/
LOCATION:Municipal Building\, 212 10TH STREET\, HINES CREEK\, AB\, T0H 2A0\, Canada
END:VEVENT
BEGIN:VEVENT
DTSTART;TZID=America/Edmonton:20240310T110000
DTEND;TZID=America/Edmonton:20240310T150000
DTSTAMP:20260420T114633
CREATED:20240129T215312Z
LAST-MODIFIED:20240129T215312Z
UID:5443-1710068400-1710082800@hinescreek.com
SUMMARY:Macrame with Katie Bjorklund
DESCRIPTION:Cost is:\n$30 for members\n$40 for non-members \nPlease contact Pauline Schultz to register 780-494-3896
URL:https://hinescreek.com/event/macrame-with-katie-bjorklund/
LOCATION:Hines Creek Arts & Crafts Club\, 712 8th Street
END:VEVENT
BEGIN:VEVENT
DTSTART;TZID=America/Edmonton:20240302T100000
DTEND;TZID=America/Edmonton:20240303T160000
DTSTAMP:20260420T114633
CREATED:20240129T212235Z
LAST-MODIFIED:20240129T212235Z
UID:5439-1709373600-1709481600@hinescreek.com
SUMMARY:Pottery Wheel for Beginners
DESCRIPTION:Taught by Diana Kosheiff\n$30 for members\n$10 for members bringing their own supplies\n$55 for non-members \nPlease contact Pauline Schultz to register 780-494-3896
URL:https://hinescreek.com/event/pottery-wheel-for-beginners/
LOCATION:Hines Creek Arts & Crafts Club\, 712 8th Street
END:VEVENT
BEGIN:VEVENT
DTSTART;TZID=America/Edmonton:20240227T190000
DTEND;TZID=America/Edmonton:20240227T190000
DTSTAMP:20260420T114633
CREATED:20240206T221016Z
LAST-MODIFIED:20240206T221016Z
UID:5478-1709060400-1709060400@hinescreek.com
SUMMARY:Regular Council Meeting
DESCRIPTION:
URL:https://hinescreek.com/event/regular-council-meeting-33/
LOCATION:Municipal Building\, 212 10TH STREET\, HINES CREEK\, AB\, T0H 2A0\, Canada
END:VEVENT
BEGIN:VEVENT
DTSTART;TZID=America/Edmonton:20240224T100000
DTEND;TZID=America/Edmonton:20240225T160000
DTSTAMP:20260420T114633
CREATED:20240129T211607Z
LAST-MODIFIED:20240129T215116Z
UID:5437-1708768800-1708876800@hinescreek.com
SUMMARY:Glass Fusion with Sharon Doucet
DESCRIPTION:Please contact Pauline Schultz to register 780-494-3896
URL:https://hinescreek.com/event/glass-fusion-with-sharon-doucet-2/
LOCATION:Hines Creek Arts & Crafts Club\, 712 8th Street
END:VEVENT
BEGIN:VEVENT
DTSTART;TZID=America/Edmonton:20240219T120000
DTEND;TZID=America/Edmonton:20240219T160000
DTSTAMP:20260420T114633
CREATED:20240129T220605Z
LAST-MODIFIED:20240129T220605Z
UID:5447-1708344000-1708358400@hinescreek.com
SUMMARY:Family Day Fun Day
DESCRIPTION:
URL:https://hinescreek.com/event/family-day-fun-day/
LOCATION:Dave Shaw Memorial Complex\, 712 8th Street\, Hines Creek
END:VEVENT
BEGIN:VEVENT
DTSTART;TZID=America/Edmonton:20240213T190000
DTEND;TZID=America/Edmonton:20240213T190000
DTSTAMP:20260420T114633
CREATED:20240206T221016Z
LAST-MODIFIED:20240206T221016Z
UID:5477-1707850800-1707850800@hinescreek.com
SUMMARY:Regular Council Meeting
DESCRIPTION:
URL:https://hinescreek.com/event/regular-council-meeting-15/
LOCATION:Municipal Building\, 212 10TH STREET\, HINES CREEK\, AB\, T0H 2A0\, Canada
END:VEVENT
END:VCALENDAR